BEGIN:VCALENDAR
VERSION:2.0
PRODID:-//Pasadena Humane - ECPv6.15.15//NONSGML v1.0//EN
CALSCALE:GREGORIAN
METHOD:PUBLISH
X-WR-CALNAME:Pasadena Humane
X-ORIGINAL-URL:https://pasadenahumane.org
X-WR-CALDESC:Events for Pasadena Humane
REFRESH-INTERVAL;VALUE=DURATION:PT1H
X-Robots-Tag:noindex
X-PUBLISHED-TTL:PT1H
BEGIN:VTIMEZONE
TZID:America/Los_Angeles
BEGIN:DAYLIGHT
TZOFFSETFROM:-0800
TZOFFSETTO:-0700
TZNAME:PDT
DTSTART:20250309T100000
END:DAYLIGHT
BEGIN:STANDARD
TZOFFSETFROM:-0700
TZOFFSETTO:-0800
TZNAME:PST
DTSTART:20251102T090000
END:STANDARD
BEGIN:DAYLIGHT
TZOFFSETFROM:-0800
TZOFFSETTO:-0700
TZNAME:PDT
DTSTART:20260308T100000
END:DAYLIGHT
BEGIN:STANDARD
TZOFFSETFROM:-0700
TZOFFSETTO:-0800
TZNAME:PST
DTSTART:20261101T090000
END:STANDARD
BEGIN:DAYLIGHT
TZOFFSETFROM:-0800
TZOFFSETTO:-0700
TZNAME:PDT
DTSTART:20270314T100000
END:DAYLIGHT
BEGIN:STANDARD
TZOFFSETFROM:-0700
TZOFFSETTO:-0800
TZNAME:PST
DTSTART:20271107T090000
END:STANDARD
END:VTIMEZONE
BEGIN:VEVENT
DTSTART;TZID=America/Los_Angeles:20260607T103000
DTEND;TZID=America/Los_Angeles:20260607T111500
DTSTAMP:20260420T184238
CREATED:20260417T210715Z
LAST-MODIFIED:20260417T210715Z
UID:10006208-1780828200-1780830900@pasadenahumane.org
SUMMARY:Walk This Way
DESCRIPTION:Is walking your dog a drag? In this repeatable 3 week mini-course\, we’ll guide you on how to teach your dog (ages 4 months and up) to walk on a lead without dashing forward. Improve upon your leash handling skills with us in our large training room and practice around distractions at your dog’s comfort level. Get informed\, professional advice about pain-free equipment that will work best for you and your dog. Each session is 45 minutes. \n\n3-week course is $75\nThis class is not appropriate for dogs who bark\, growl\, or lunge when seeing other dogs within 10 feet.\nYour dog must be up-to-date on age-appropriate vaccines\n\nAvailable Sessions:\nSundays\, June 7-21\, 10:30-11:15 a.m. \n\n 
URL:https://pasadenahumane.org/phs-event/walk-this-way-11/2026-06-07/
END:VEVENT
BEGIN:VEVENT
DTSTART;TZID=America/Los_Angeles:20260614T103000
DTEND;TZID=America/Los_Angeles:20260614T111500
DTSTAMP:20260420T184238
CREATED:20260417T210715Z
LAST-MODIFIED:20260417T210715Z
UID:10006209-1781433000-1781435700@pasadenahumane.org
SUMMARY:Walk This Way
DESCRIPTION:Is walking your dog a drag? In this repeatable 3 week mini-course\, we’ll guide you on how to teach your dog (ages 4 months and up) to walk on a lead without dashing forward. Improve upon your leash handling skills with us in our large training room and practice around distractions at your dog’s comfort level. Get informed\, professional advice about pain-free equipment that will work best for you and your dog. Each session is 45 minutes. \n\n3-week course is $75\nThis class is not appropriate for dogs who bark\, growl\, or lunge when seeing other dogs within 10 feet.\nYour dog must be up-to-date on age-appropriate vaccines\n\nAvailable Sessions:\nSundays\, June 7-21\, 10:30-11:15 a.m. \n\n 
URL:https://pasadenahumane.org/phs-event/walk-this-way-11/2026-06-14/
END:VEVENT
BEGIN:VEVENT
DTSTART;TZID=America/Los_Angeles:20260621T103000
DTEND;TZID=America/Los_Angeles:20260621T111500
DTSTAMP:20260420T184238
CREATED:20260417T210715Z
LAST-MODIFIED:20260417T210715Z
UID:10006210-1782037800-1782040500@pasadenahumane.org
SUMMARY:Walk This Way
DESCRIPTION:Is walking your dog a drag? In this repeatable 3 week mini-course\, we’ll guide you on how to teach your dog (ages 4 months and up) to walk on a lead without dashing forward. Improve upon your leash handling skills with us in our large training room and practice around distractions at your dog’s comfort level. Get informed\, professional advice about pain-free equipment that will work best for you and your dog. Each session is 45 minutes. \n\n3-week course is $75\nThis class is not appropriate for dogs who bark\, growl\, or lunge when seeing other dogs within 10 feet.\nYour dog must be up-to-date on age-appropriate vaccines\n\nAvailable Sessions:\nSundays\, June 7-21\, 10:30-11:15 a.m. \n\n 
URL:https://pasadenahumane.org/phs-event/walk-this-way-11/2026-06-21/
END:VEVENT
END:VCALENDAR