BEGIN:VCALENDAR
VERSION:2.0
PRODID:-//Pasadena Humane - ECPv6.15.15//NONSGML v1.0//EN
CALSCALE:GREGORIAN
METHOD:PUBLISH
X-WR-CALNAME:Pasadena Humane
X-ORIGINAL-URL:https://pasadenahumane.org
X-WR-CALDESC:Events for Pasadena Humane
REFRESH-INTERVAL;VALUE=DURATION:PT1H
X-Robots-Tag:noindex
X-PUBLISHED-TTL:PT1H
BEGIN:VTIMEZONE
TZID:America/Los_Angeles
BEGIN:DAYLIGHT
TZOFFSETFROM:-0800
TZOFFSETTO:-0700
TZNAME:PDT
DTSTART:20240310T100000
END:DAYLIGHT
BEGIN:STANDARD
TZOFFSETFROM:-0700
TZOFFSETTO:-0800
TZNAME:PST
DTSTART:20241103T090000
END:STANDARD
BEGIN:DAYLIGHT
TZOFFSETFROM:-0800
TZOFFSETTO:-0700
TZNAME:PDT
DTSTART:20250309T100000
END:DAYLIGHT
BEGIN:STANDARD
TZOFFSETFROM:-0700
TZOFFSETTO:-0800
TZNAME:PST
DTSTART:20251102T090000
END:STANDARD
BEGIN:DAYLIGHT
TZOFFSETFROM:-0800
TZOFFSETTO:-0700
TZNAME:PDT
DTSTART:20260308T100000
END:DAYLIGHT
BEGIN:STANDARD
TZOFFSETFROM:-0700
TZOFFSETTO:-0800
TZNAME:PST
DTSTART:20261101T090000
END:STANDARD
END:VTIMEZONE
BEGIN:VEVENT
DTSTART;TZID=America/Los_Angeles:20251004T110000
DTEND;TZID=America/Los_Angeles:20251004T160000
DTSTAMP:20260421T152144
CREATED:20251001T173139Z
LAST-MODIFIED:20251001T173139Z
UID:10005095-1759575600-1759593600@pasadenahumane.org
SUMMARY:Barks and Boos
DESCRIPTION:Join us for a day of happy dogs and craft beers! Guests can meet adoptable dogs from Pasadena Humane at the mobile adoption truck\, purchase delicious bites and beer from food trucks and The Mt. Lowe Brewing Company\, and visit info tables while giving your pups a tour of the garden. Dogs with an adventurous streak can try their paw at an agility course. \nDon’t forget to dress your pup up in their best Halloween attire! A dog costume contest will take place at 2:30 p.m. for those who wish to participate.
URL:https://pasadenahumane.org/phs-event/barks-and-boos/
CATEGORIES:Mobile Outreach,Waggin
END:VEVENT
END:VCALENDAR