BEGIN:VCALENDAR
VERSION:2.0
PRODID:-//Pasadena Humane - ECPv6.15.15//NONSGML v1.0//EN
CALSCALE:GREGORIAN
METHOD:PUBLISH
X-ORIGINAL-URL:https://pasadenahumane.org
X-WR-CALDESC:Events for Pasadena Humane
REFRESH-INTERVAL;VALUE=DURATION:PT1H
X-Robots-Tag:noindex
X-PUBLISHED-TTL:PT1H
BEGIN:VTIMEZONE
TZID:America/Los_Angeles
BEGIN:DAYLIGHT
TZOFFSETFROM:-0800
TZOFFSETTO:-0700
TZNAME:PDT
DTSTART:20230312T100000
END:DAYLIGHT
BEGIN:STANDARD
TZOFFSETFROM:-0700
TZOFFSETTO:-0800
TZNAME:PST
DTSTART:20231105T090000
END:STANDARD
BEGIN:DAYLIGHT
TZOFFSETFROM:-0800
TZOFFSETTO:-0700
TZNAME:PDT
DTSTART:20240310T100000
END:DAYLIGHT
BEGIN:STANDARD
TZOFFSETFROM:-0700
TZOFFSETTO:-0800
TZNAME:PST
DTSTART:20241103T090000
END:STANDARD
BEGIN:DAYLIGHT
TZOFFSETFROM:-0800
TZOFFSETTO:-0700
TZNAME:PDT
DTSTART:20250309T100000
END:DAYLIGHT
BEGIN:STANDARD
TZOFFSETFROM:-0700
TZOFFSETTO:-0800
TZNAME:PST
DTSTART:20251102T090000
END:STANDARD
END:VTIMEZONE
BEGIN:VEVENT
DTSTART;TZID=America/Los_Angeles:20241019T110000
DTEND;TZID=America/Los_Angeles:20241019T140000
DTSTAMP:20260421T140006
CREATED:20240913T193847Z
LAST-MODIFIED:20240913T193847Z
UID:10003136-1729335600-1729346400@pasadenahumane.org
SUMMARY:Pop-Up Dog Adoption Event at Sierra Subaru of Monrovia
DESCRIPTION:Sierra Subaru\, 735 E. Central Ave.\, Monrovia \nThe Wiggle Waggle Waggin’ is out and about bringing adoptable pets to your community. Visit the Waggin’ and adopt your new best friend!
URL:https://pasadenahumane.org/phs-event/pop-up-dog-adoption-event-at-sierra-subaru-of-monrovia/
CATEGORIES:Waggin
ATTACH;FMTTYPE=image/jpeg:https://pasadenahumane.org/wp-content/uploads/2023/04/23_MobileWaggin-scaled.jpg
END:VEVENT
END:VCALENDAR