BEGIN:VCALENDAR
VERSION:2.0
PRODID:-//Pasadena Humane - ECPv6.15.15//NONSGML v1.0//EN
CALSCALE:GREGORIAN
METHOD:PUBLISH
X-ORIGINAL-URL:https://pasadenahumane.org
X-WR-CALDESC:Events for Pasadena Humane
REFRESH-INTERVAL;VALUE=DURATION:PT1H
X-Robots-Tag:noindex
X-PUBLISHED-TTL:PT1H
BEGIN:VTIMEZONE
TZID:America/Los_Angeles
BEGIN:DAYLIGHT
TZOFFSETFROM:-0800
TZOFFSETTO:-0700
TZNAME:PDT
DTSTART:20250309T100000
END:DAYLIGHT
BEGIN:STANDARD
TZOFFSETFROM:-0700
TZOFFSETTO:-0800
TZNAME:PST
DTSTART:20251102T090000
END:STANDARD
BEGIN:DAYLIGHT
TZOFFSETFROM:-0800
TZOFFSETTO:-0700
TZNAME:PDT
DTSTART:20260308T100000
END:DAYLIGHT
BEGIN:STANDARD
TZOFFSETFROM:-0700
TZOFFSETTO:-0800
TZNAME:PST
DTSTART:20261101T090000
END:STANDARD
BEGIN:DAYLIGHT
TZOFFSETFROM:-0800
TZOFFSETTO:-0700
TZNAME:PDT
DTSTART:20270314T100000
END:DAYLIGHT
BEGIN:STANDARD
TZOFFSETFROM:-0700
TZOFFSETTO:-0800
TZNAME:PST
DTSTART:20271107T090000
END:STANDARD
END:VTIMEZONE
BEGIN:VEVENT
DTSTART;TZID=America/Los_Angeles:20260103T110000
DTEND;TZID=America/Los_Angeles:20260103T140000
DTSTAMP:20260421T200750
CREATED:20251213T195827Z
LAST-MODIFIED:20251213T195827Z
UID:10005478-1767438000-1767448800@pasadenahumane.org
SUMMARY:Pop-Up Dog Adoption Event at PetSmart (Hastings Ranch)
DESCRIPTION:PetSmart\, 3347 E. Foothill Blvd.\, Pasadena \nThe Wiggle Waggle Waggin’ is out and about bringing adoptable pets to your community. Visit the Waggin’ and adopt your new best friend!
URL:https://pasadenahumane.org/phs-event/pop-up-dog-adoption-event-at-petsmart-hastings-ranch-6/
CATEGORIES:Waggin
END:VEVENT
BEGIN:VEVENT
DTSTART;TZID=America/Los_Angeles:20260107T170000
DTEND;TZID=America/Los_Angeles:20260107T190000
DTSTAMP:20260421T200750
CREATED:20251014T230558Z
LAST-MODIFIED:20251014T230558Z
UID:10005154-1767805200-1767812400@pasadenahumane.org
SUMMARY:Hidden Gems: A Pop-Up Dog Adoption Event at PetSmart Hastings Ranch
DESCRIPTION:Looking to adopt a dog that sparkles? Come meet some of our Hidden Gems every Wednesday from 5 to 7 p.m. at PetSmart Hastings Ranch (3347 E. Foothill Blvd.\, Pasadena)! Each week\, we’ll be bringing dogs who have been at the shelter longer than most other pups\, giving them some extra time in the spotlight to really shine.
URL:https://pasadenahumane.org/phs-event/hidden-gems-a-pop-up-dog-adoption-event-at-petsmart-hastings-ranch/2026-01-07/
CATEGORIES:Waggin
END:VEVENT
BEGIN:VEVENT
DTSTART;TZID=America/Los_Angeles:20260110T120000
DTEND;TZID=America/Los_Angeles:20260110T150000
DTSTAMP:20260421T200750
CREATED:20251213T200234Z
LAST-MODIFIED:20251213T200258Z
UID:10005479-1768046400-1768057200@pasadenahumane.org
SUMMARY:Pop-Up Dog Adoptions at Altadena Beverage and Market
DESCRIPTION:1850 Allen Ave\, Pasadena\, CA 91104 \n\nThe Wiggle Waggle Waggin’ is out and about\, bringing adoptable pets to your community. Visit the Waggin’ and adopt your new best friend.
URL:https://pasadenahumane.org/phs-event/pop-up-dog-adoptions-at-altadena-beverage-and-market/
CATEGORIES:Waggin
END:VEVENT
BEGIN:VEVENT
DTSTART;TZID=America/Los_Angeles:20260114T170000
DTEND;TZID=America/Los_Angeles:20260114T190000
DTSTAMP:20260421T200750
CREATED:20251014T230558Z
LAST-MODIFIED:20251014T230558Z
UID:10005155-1768410000-1768417200@pasadenahumane.org
SUMMARY:Hidden Gems: A Pop-Up Dog Adoption Event at PetSmart Hastings Ranch
DESCRIPTION:Looking to adopt a dog that sparkles? Come meet some of our Hidden Gems every Wednesday from 5 to 7 p.m. at PetSmart Hastings Ranch (3347 E. Foothill Blvd.\, Pasadena)! Each week\, we’ll be bringing dogs who have been at the shelter longer than most other pups\, giving them some extra time in the spotlight to really shine.
URL:https://pasadenahumane.org/phs-event/hidden-gems-a-pop-up-dog-adoption-event-at-petsmart-hastings-ranch/2026-01-14/
CATEGORIES:Waggin
END:VEVENT
BEGIN:VEVENT
DTSTART;TZID=America/Los_Angeles:20260117T110000
DTEND;TZID=America/Los_Angeles:20260117T140000
DTSTAMP:20260421T200750
CREATED:20251213T200811Z
LAST-MODIFIED:20251213T200811Z
UID:10005480-1768647600-1768658400@pasadenahumane.org
SUMMARY:Pop-Up Dog Adoption Event at The WellRock Gym
DESCRIPTION:2460 Lake Ave\, Altadena\, CA 91001 \n\nThe Wiggle Waggle Waggin’ is out and about\, bringing adoptable pets to your community. Visit the Waggin’ and adopt your new best friend.
URL:https://pasadenahumane.org/phs-event/pop-up-dog-adoption-event-at-the-wellrock-gym/
CATEGORIES:Waggin
END:VEVENT
BEGIN:VEVENT
DTSTART;TZID=America/Los_Angeles:20260121T170000
DTEND;TZID=America/Los_Angeles:20260121T190000
DTSTAMP:20260421T200750
CREATED:20251014T230558Z
LAST-MODIFIED:20251014T230558Z
UID:10005156-1769014800-1769022000@pasadenahumane.org
SUMMARY:Hidden Gems: A Pop-Up Dog Adoption Event at PetSmart Hastings Ranch
DESCRIPTION:Looking to adopt a dog that sparkles? Come meet some of our Hidden Gems every Wednesday from 5 to 7 p.m. at PetSmart Hastings Ranch (3347 E. Foothill Blvd.\, Pasadena)! Each week\, we’ll be bringing dogs who have been at the shelter longer than most other pups\, giving them some extra time in the spotlight to really shine.
URL:https://pasadenahumane.org/phs-event/hidden-gems-a-pop-up-dog-adoption-event-at-petsmart-hastings-ranch/2026-01-21/
CATEGORIES:Waggin
END:VEVENT
BEGIN:VEVENT
DTSTART;TZID=America/Los_Angeles:20260124T110000
DTEND;TZID=America/Los_Angeles:20260124T140000
DTSTAMP:20260421T200750
CREATED:20251213T202318Z
LAST-MODIFIED:20260121T173906Z
UID:10005481-1769252400-1769263200@pasadenahumane.org
SUMMARY:Pop-Up Dog Adoption Event at Altadena Sheriff’s Station
DESCRIPTION:780 E Altadena Dr\, Altadena\, CA 91001 \n\n\nThe Wiggle Waggle Waggin’ is out and about\, bringing adoptable pets to your community. Visit the Waggin’ and adopt your new best friend.
URL:https://pasadenahumane.org/phs-event/pop-up-dog-adoption-event-at-altadena-sheriffs-station/
CATEGORIES:Waggin
END:VEVENT
BEGIN:VEVENT
DTSTART;TZID=America/Los_Angeles:20260128T170000
DTEND;TZID=America/Los_Angeles:20260128T190000
DTSTAMP:20260421T200750
CREATED:20251014T230558Z
LAST-MODIFIED:20251014T230558Z
UID:10005157-1769619600-1769626800@pasadenahumane.org
SUMMARY:Hidden Gems: A Pop-Up Dog Adoption Event at PetSmart Hastings Ranch
DESCRIPTION:Looking to adopt a dog that sparkles? Come meet some of our Hidden Gems every Wednesday from 5 to 7 p.m. at PetSmart Hastings Ranch (3347 E. Foothill Blvd.\, Pasadena)! Each week\, we’ll be bringing dogs who have been at the shelter longer than most other pups\, giving them some extra time in the spotlight to really shine.
URL:https://pasadenahumane.org/phs-event/hidden-gems-a-pop-up-dog-adoption-event-at-petsmart-hastings-ranch/2026-01-28/
CATEGORIES:Waggin
END:VEVENT
BEGIN:VEVENT
DTSTART;TZID=America/Los_Angeles:20260131T110000
DTEND;TZID=America/Los_Angeles:20260131T140000
DTSTAMP:20260421T200750
CREATED:20251213T221516Z
LAST-MODIFIED:20251213T221516Z
UID:10005482-1769857200-1769868000@pasadenahumane.org
SUMMARY:Pop-Up Dog Adoption Event at The Urban Pet (South Pasadena)
DESCRIPTION:1127 Fair Oaks Ave\, South Pasadena\, CA 91030 \n\n\nThe Wiggle Waggle Waggin’ is out and about\, bringing adoptable pets to your community. Visit the Waggin’ and adopt your new best friend.
URL:https://pasadenahumane.org/phs-event/pop-up-dog-adoption-event-at-the-urban-pet-south-pasadena/
CATEGORIES:Waggin
END:VEVENT
END:VCALENDAR