BEGIN:VCALENDAR
VERSION:2.0
PRODID:-//Pasadena Humane - ECPv6.15.15//NONSGML v1.0//EN
CALSCALE:GREGORIAN
METHOD:PUBLISH
X-WR-CALNAME:Pasadena Humane
X-ORIGINAL-URL:https://pasadenahumane.org
X-WR-CALDESC:Events for Pasadena Humane
REFRESH-INTERVAL;VALUE=DURATION:PT1H
X-Robots-Tag:noindex
X-PUBLISHED-TTL:PT1H
BEGIN:VTIMEZONE
TZID:America/Los_Angeles
BEGIN:DAYLIGHT
TZOFFSETFROM:-0800
TZOFFSETTO:-0700
TZNAME:PDT
DTSTART:20230312T100000
END:DAYLIGHT
BEGIN:STANDARD
TZOFFSETFROM:-0700
TZOFFSETTO:-0800
TZNAME:PST
DTSTART:20231105T090000
END:STANDARD
BEGIN:DAYLIGHT
TZOFFSETFROM:-0800
TZOFFSETTO:-0700
TZNAME:PDT
DTSTART:20240310T100000
END:DAYLIGHT
BEGIN:STANDARD
TZOFFSETFROM:-0700
TZOFFSETTO:-0800
TZNAME:PST
DTSTART:20241103T090000
END:STANDARD
BEGIN:DAYLIGHT
TZOFFSETFROM:-0800
TZOFFSETTO:-0700
TZNAME:PDT
DTSTART:20250309T100000
END:DAYLIGHT
BEGIN:STANDARD
TZOFFSETFROM:-0700
TZOFFSETTO:-0800
TZNAME:PST
DTSTART:20251102T090000
END:STANDARD
END:VTIMEZONE
BEGIN:VEVENT
DTSTART;TZID=America/Los_Angeles:20241102T100000
DTEND;TZID=America/Los_Angeles:20241102T140000
DTSTAMP:20260421T103727
CREATED:20221215T015544Z
LAST-MODIFIED:20240927T212734Z
UID:10003145-1730541600-1730556000@pasadenahumane.org
SUMMARY:Pop-Up Dog Adoption Event at Integrity College of Health
DESCRIPTION:Integrity College of Health\, 1460 N Lake Ave Ste 102\, Pasadena\, CA 91104 \nThe Wiggle Waggle Waggin’ is out and about bringing adoptable pets to your community. Visit the Waggin’ and adopt your new best friend!
URL:https://pasadenahumane.org/phs-event/pop-up-adoption-event-at-integrity-college-of-health/2024-11-02/
CATEGORIES:Waggin
ATTACH;FMTTYPE=image/jpeg:https://pasadenahumane.org/wp-content/uploads/2023/04/23_MobileWaggin-scaled.jpg
END:VEVENT
BEGIN:VEVENT
DTSTART;TZID=America/Los_Angeles:20241103T090000
DTEND;TZID=America/Los_Angeles:20241103T140000
DTSTAMP:20260421T103727
CREATED:20240607T233817Z
LAST-MODIFIED:20250611T184550Z
UID:10003161-1730624400-1730642400@pasadenahumane.org
SUMMARY:Pop-Up Dog Adoption Event at PCC Flea Market
DESCRIPTION:PCC Flea Market\, 1570 E. Colorado Blvd.\, Pasadena \nThe Wiggle Waggle Waggin’ is out and about bringing adoptable pets to your community. Visit the Waggin’ and adopt your new best friend!
URL:https://pasadenahumane.org/phs-event/pop-up-dog-adoption-event-at-pcc-flea-market/2024-11-03/
CATEGORIES:Waggin
ATTACH;FMTTYPE=image/jpeg:https://pasadenahumane.org/wp-content/uploads/2023/04/23_MobileWaggin-scaled.jpg
END:VEVENT
BEGIN:VEVENT
DTSTART;TZID=America/Los_Angeles:20241109T100000
DTEND;TZID=America/Los_Angeles:20241109T140000
DTSTAMP:20260421T103727
CREATED:20221103T233851Z
LAST-MODIFIED:20250311T173916Z
UID:10003146-1731146400-1731160800@pasadenahumane.org
SUMMARY:Pop-Up Dog Adoption Event at Jackalope Arts
DESCRIPTION:Central Park\, 275 S Raymond Ave. Pasadena\, CA 91105 \nThe Wiggle Waggle Waggin’ is out and about bringing adoptable pets to your community. Visit the Waggin’ and adopt your new best friend!
URL:https://pasadenahumane.org/phs-event/pop-up-adoption-event-at-jackalope-arts/2024-11-09/
CATEGORIES:Waggin
ATTACH;FMTTYPE=image/jpeg:https://pasadenahumane.org/wp-content/uploads/2023/04/23_MobileWaggin-scaled.jpg
END:VEVENT
BEGIN:VEVENT
DTSTART;TZID=America/Los_Angeles:20241109T110000
DTEND;TZID=America/Los_Angeles:20241109T130000
DTSTAMP:20260421T103727
CREATED:20241002T204905Z
LAST-MODIFIED:20250304T192541Z
UID:10003153-1731150000-1731157200@pasadenahumane.org
SUMMARY:Pop-Up Cat & Kitten Adoption Event at Centinela Feed (Pasadena)
DESCRIPTION:Centinela Feed\, 3120 E. Colorado Blvd.\, Pasadena \nJoin us for our cat and kitten adoption event and find your purrfect match!
URL:https://pasadenahumane.org/phs-event/pop-up-cat-kitten-adoption-event-at-centinela-feed/2024-11-09/
CATEGORIES:Waggin
ATTACH;FMTTYPE=image/jpeg:https://pasadenahumane.org/wp-content/uploads/2023/07/PasadenaHumane2023_Indy_LF_794A5290.jpg
END:VEVENT
BEGIN:VEVENT
DTSTART;TZID=America/Los_Angeles:20241110T100000
DTEND;TZID=America/Los_Angeles:20241110T140000
DTSTAMP:20260421T103727
CREATED:20221103T233851Z
LAST-MODIFIED:20250311T173916Z
UID:10003147-1731232800-1731247200@pasadenahumane.org
SUMMARY:Pop-Up Dog Adoption Event at Jackalope Arts
DESCRIPTION:Central Park\, 275 S Raymond Ave. Pasadena\, CA 91105 \nThe Wiggle Waggle Waggin’ is out and about bringing adoptable pets to your community. Visit the Waggin’ and adopt your new best friend!
URL:https://pasadenahumane.org/phs-event/pop-up-adoption-event-at-jackalope-arts/2024-11-10/
CATEGORIES:Waggin
ATTACH;FMTTYPE=image/jpeg:https://pasadenahumane.org/wp-content/uploads/2023/04/23_MobileWaggin-scaled.jpg
END:VEVENT
BEGIN:VEVENT
DTSTART;TZID=America/Los_Angeles:20241114T170000
DTEND;TZID=America/Los_Angeles:20241114T193000
DTSTAMP:20260421T103727
CREATED:20241105T192905Z
LAST-MODIFIED:20241105T192905Z
UID:10003209-1731603600-1731612600@pasadenahumane.org
SUMMARY:Marriott Open House + Pop-Up Dog Adoption Event
DESCRIPTION:Join us on Thursday\, November 14th from 5:00 p.m. to 7:30 p.m. for a mini pop-up adoption event at the newly reimagined Courtyard by Marriott located at 180 N Fair Oaks Ave in Old Town Pasadena. Enjoy light bites and sweets while mingling with community members at this dog-friendly property. Courtyard by Marriott will cover all adoption fees that evening.
URL:https://pasadenahumane.org/phs-event/marriott-open-house-pop-up-dog-adoption-event/
CATEGORIES:Waggin
ATTACH;FMTTYPE=image/jpeg:https://pasadenahumane.org/wp-content/uploads/2024/11/Marriott-flyer.jpg
END:VEVENT
BEGIN:VEVENT
DTSTART;TZID=America/Los_Angeles:20241116T110000
DTEND;TZID=America/Los_Angeles:20241116T140000
DTSTAMP:20260421T103727
CREATED:20240608T000659Z
LAST-MODIFIED:20250529T224808Z
UID:10003148-1731754800-1731765600@pasadenahumane.org
SUMMARY:Pop-Up Dog Adoption Event at Gelson's La Cañada
DESCRIPTION:Gelson’s Market\, 635 Foothill Blvd.\, La Cañada Flintridge \nThe Wiggle Waggle Waggin’ is out and about bringing adoptable pets to your community. Visit the Waggin’ and adopt your new best friend!
URL:https://pasadenahumane.org/phs-event/pop-up-dog-adoption-event-at-gelsons-la-canada-2/2024-11-16/
CATEGORIES:Waggin
ATTACH;FMTTYPE=image/jpeg:https://pasadenahumane.org/wp-content/uploads/2023/04/23_MobileWaggin-scaled.jpg
END:VEVENT
BEGIN:VEVENT
DTSTART;TZID=America/Los_Angeles:20241123T110000
DTEND;TZID=America/Los_Angeles:20241123T140000
DTSTAMP:20260421T103727
CREATED:20241004T193329Z
LAST-MODIFIED:20241004T193329Z
UID:10003162-1732359600-1732370400@pasadenahumane.org
SUMMARY:Pop-Up Dog Adoption Event at the Paseo (Pasadena)
DESCRIPTION:The Paseo\, 300 E. Colorado Blvd.\, Pasadena \nThe Wiggle Waggle Waggin’ is out and about bringing adoptable pets to your community. Visit the Waggin’ and adopt your new best friend!
URL:https://pasadenahumane.org/phs-event/pop-up-dog-adoption-event-at-the-paseo-pasadena/
CATEGORIES:Waggin
ATTACH;FMTTYPE=image/jpeg:https://pasadenahumane.org/wp-content/uploads/2023/04/23_MobileWaggin-scaled.jpg
END:VEVENT
BEGIN:VEVENT
DTSTART;TZID=America/Los_Angeles:20241130T120000
DTEND;TZID=America/Los_Angeles:20241130T150000
DTSTAMP:20260421T103727
CREATED:20241105T194124Z
LAST-MODIFIED:20241105T194124Z
UID:10003210-1732968000-1732978800@pasadenahumane.org
SUMMARY:Pop-Up Dog Adoption Event at Sierra Madre Winter Festival
DESCRIPTION:Sierra Madre Winter Festival\, 1 N. Baldwin\, Sierra Madre \nThe Wiggle Waggle Waggin’ is out and about bringing adoptable pets to your community. Visit the Waggin’ and adopt your new best friend!
URL:https://pasadenahumane.org/phs-event/pop-up-dog-adoption-event-at-sierra-madre-winter-festival/
CATEGORIES:Waggin
ATTACH;FMTTYPE=image/jpeg:https://pasadenahumane.org/wp-content/uploads/2023/04/23_MobileWaggin-scaled.jpg
END:VEVENT
END:VCALENDAR