BEGIN:VCALENDAR
VERSION:2.0
PRODID:-//Pasadena Humane - ECPv6.15.15//NONSGML v1.0//EN
CALSCALE:GREGORIAN
METHOD:PUBLISH
X-WR-CALNAME:Pasadena Humane
X-ORIGINAL-URL:https://pasadenahumane.org
X-WR-CALDESC:Events for Pasadena Humane
REFRESH-INTERVAL;VALUE=DURATION:PT1H
X-Robots-Tag:noindex
X-PUBLISHED-TTL:PT1H
BEGIN:VTIMEZONE
TZID:America/Los_Angeles
BEGIN:DAYLIGHT
TZOFFSETFROM:-0800
TZOFFSETTO:-0700
TZNAME:PDT
DTSTART:20240310T100000
END:DAYLIGHT
BEGIN:STANDARD
TZOFFSETFROM:-0700
TZOFFSETTO:-0800
TZNAME:PST
DTSTART:20241103T090000
END:STANDARD
BEGIN:DAYLIGHT
TZOFFSETFROM:-0800
TZOFFSETTO:-0700
TZNAME:PDT
DTSTART:20250309T100000
END:DAYLIGHT
BEGIN:STANDARD
TZOFFSETFROM:-0700
TZOFFSETTO:-0800
TZNAME:PST
DTSTART:20251102T090000
END:STANDARD
BEGIN:DAYLIGHT
TZOFFSETFROM:-0800
TZOFFSETTO:-0700
TZNAME:PDT
DTSTART:20260308T100000
END:DAYLIGHT
BEGIN:STANDARD
TZOFFSETFROM:-0700
TZOFFSETTO:-0800
TZNAME:PST
DTSTART:20261101T090000
END:STANDARD
END:VTIMEZONE
BEGIN:VEVENT
DTSTART;TZID=America/Los_Angeles:20250927T120000
DTEND;TZID=America/Los_Angeles:20250927T160000
DTSTAMP:20260421T211453
CREATED:20250828T170817Z
LAST-MODIFIED:20250828T170854Z
UID:10005064-1758974400-1758988800@pasadenahumane.org
SUMMARY:Pop-Up Dog Adoption Event & Tablin’ at Flintridge Riding Club
DESCRIPTION:Pasadena Humane is thrilled to partner with the Flintridge Riding Club for their annual Flintridge Autumn Classic. Come enjoy a day of exciting equestrian competition with riders from across the country\, meet some of our adorable\, adoptable dogs\, and learn more about Pasadena Humane’s life-saving programs. \nFor more information\, please visit: https://flintridgeridingclub.org/
URL:https://pasadenahumane.org/phs-event/pop-up-dog-adoption-event-tablin-at-flintridge-riding-club/
CATEGORIES:Tabling,Waggin
END:VEVENT
END:VCALENDAR