BEGIN:VCALENDAR
VERSION:2.0
PRODID:-//Pasadena Humane - ECPv6.15.15//NONSGML v1.0//EN
CALSCALE:GREGORIAN
METHOD:PUBLISH
X-ORIGINAL-URL:https://pasadenahumane.org
X-WR-CALDESC:Events for Pasadena Humane
REFRESH-INTERVAL;VALUE=DURATION:PT1H
X-Robots-Tag:noindex
X-PUBLISHED-TTL:PT1H
BEGIN:VTIMEZONE
TZID:America/Los_Angeles
BEGIN:DAYLIGHT
TZOFFSETFROM:-0800
TZOFFSETTO:-0700
TZNAME:PDT
DTSTART:20240310T100000
END:DAYLIGHT
BEGIN:STANDARD
TZOFFSETFROM:-0700
TZOFFSETTO:-0800
TZNAME:PST
DTSTART:20241103T090000
END:STANDARD
BEGIN:DAYLIGHT
TZOFFSETFROM:-0800
TZOFFSETTO:-0700
TZNAME:PDT
DTSTART:20250309T100000
END:DAYLIGHT
BEGIN:STANDARD
TZOFFSETFROM:-0700
TZOFFSETTO:-0800
TZNAME:PST
DTSTART:20251102T090000
END:STANDARD
BEGIN:DAYLIGHT
TZOFFSETFROM:-0800
TZOFFSETTO:-0700
TZNAME:PDT
DTSTART:20260308T100000
END:DAYLIGHT
BEGIN:STANDARD
TZOFFSETFROM:-0700
TZOFFSETTO:-0800
TZNAME:PST
DTSTART:20261101T090000
END:STANDARD
END:VTIMEZONE
BEGIN:VEVENT
DTSTART;TZID=America/Los_Angeles:20251203T163000
DTEND;TZID=America/Los_Angeles:20251203T193000
DTSTAMP:20260421T104024
CREATED:20251121T192047Z
LAST-MODIFIED:20251121T192118Z
UID:10005474-1764779400-1764790200@pasadenahumane.org
SUMMARY:Tablin' at Paws n' Claus Enchant LA at Santa Anita Park
DESCRIPTION:285 W Huntington Dr\, Arcadia\, CA 91007 \nThe Pasadena Humane outreach team regularly attends fairs\, festivals and conventions to bring information about our programs and services out to the community.
URL:https://pasadenahumane.org/phs-event/tablin-at-paws-n-claus-enchant-la-at-santa-anita-park/
CATEGORIES:Tabling
END:VEVENT
BEGIN:VEVENT
DTSTART;TZID=America/Los_Angeles:20251213T110000
DTEND;TZID=America/Los_Angeles:20251213T160000
DTSTAMP:20260421T104024
CREATED:20251120T230156Z
LAST-MODIFIED:20251120T230156Z
UID:10005471-1765623600-1765641600@pasadenahumane.org
SUMMARY:Tablin' and Holiday Donation Drive at Downtown Arcadia Holiday Fair
DESCRIPTION:First Ave. in Downtown Arcadia between Huntington Dr. and California St. \n\n\nThe Pasadena Humane outreach team regularly attends fairs\, festivals and conventions to bring information about our programs and services out to the community.
URL:https://pasadenahumane.org/phs-event/tablin-and-holiday-donation-drive-at-downtown-arcadia-holiday-fair/
CATEGORIES:Tabling
END:VEVENT
BEGIN:VEVENT
DTSTART;TZID=America/Los_Angeles:20251217T163000
DTEND;TZID=America/Los_Angeles:20251217T193000
DTSTAMP:20260421T104024
CREATED:20251121T192312Z
LAST-MODIFIED:20251121T192312Z
UID:10005475-1765989000-1765999800@pasadenahumane.org
SUMMARY:Tablin' at Paws n' Claus Enchant LA at Santa Anita Park
DESCRIPTION:285 W Huntington Dr\, Arcadia\, CA 91007 \nThe Pasadena Humane outreach team regularly attends fairs\, festivals and conventions to bring information about our programs and services out to the community.
URL:https://pasadenahumane.org/phs-event/tablin-at-paws-n-claus-enchant-la-at-santa-anita-park-2/
CATEGORIES:Tabling
END:VEVENT
END:VCALENDAR