BEGIN:VCALENDAR
VERSION:2.0
PRODID:-//Pasadena Humane - ECPv6.15.15//NONSGML v1.0//EN
CALSCALE:GREGORIAN
METHOD:PUBLISH
X-ORIGINAL-URL:https://pasadenahumane.org
X-WR-CALDESC:Events for Pasadena Humane
REFRESH-INTERVAL;VALUE=DURATION:PT1H
X-Robots-Tag:noindex
X-PUBLISHED-TTL:PT1H
BEGIN:VTIMEZONE
TZID:America/Los_Angeles
BEGIN:DAYLIGHT
TZOFFSETFROM:-0800
TZOFFSETTO:-0700
TZNAME:PDT
DTSTART:20230312T100000
END:DAYLIGHT
BEGIN:STANDARD
TZOFFSETFROM:-0700
TZOFFSETTO:-0800
TZNAME:PST
DTSTART:20231105T090000
END:STANDARD
BEGIN:DAYLIGHT
TZOFFSETFROM:-0800
TZOFFSETTO:-0700
TZNAME:PDT
DTSTART:20240310T100000
END:DAYLIGHT
BEGIN:STANDARD
TZOFFSETFROM:-0700
TZOFFSETTO:-0800
TZNAME:PST
DTSTART:20241103T090000
END:STANDARD
BEGIN:DAYLIGHT
TZOFFSETFROM:-0800
TZOFFSETTO:-0700
TZNAME:PDT
DTSTART:20250309T100000
END:DAYLIGHT
BEGIN:STANDARD
TZOFFSETFROM:-0700
TZOFFSETTO:-0800
TZNAME:PST
DTSTART:20251102T090000
END:STANDARD
END:VTIMEZONE
BEGIN:VEVENT
DTSTART;TZID=America/Los_Angeles:20241015T153000
DTEND;TZID=America/Los_Angeles:20241015T173000
DTSTAMP:20260424T031947
CREATED:20240621T183519Z
LAST-MODIFIED:20240920T153822Z
UID:10002603-1729006200-1729013400@pasadenahumane.org
SUMMARY:Junior Vets Club (Ages 7-11)
DESCRIPTION:$200 per four-week session \nJoin the excitement with our Jr. Vets Club—an immersive after-school program designed to captivate children aged 7 to 11. Your child will be part of an extraordinary journey of discovery and compassion. Dive into engaging topics such as veterinary health\, wildlife conservation\, and the thrilling world of animal careers. But it’s not just about learning; it’s hands-on action! Your child will actively participate in meaningful service projects\, fostering a deep connection with our furry and feathered friends. \nJoin us every Tuesday from 3:30 p.m. to 5:30 p.m.\, providing your child with the chance to unleash their creativity while making a positive impact on the world of animals. \n*While we cannot guarantee an animal experience in every session\, we strive to introduce children to safe and suitable encounters with our furry companions when possible. \nAll scholarships for 2024 have been awarded. Please check back later for 2025 scholarships.
URL:https://pasadenahumane.org/phs-event/junior-vets-club-ages-7-11/2024-10-15/
CATEGORIES:Humane Education
ATTACH;FMTTYPE=image/jpeg:https://pasadenahumane.org/wp-content/uploads/2023/07/kfaclub_kids_small.jpg
END:VEVENT
END:VCALENDAR