BEGIN:VCALENDAR
VERSION:2.0
PRODID:-//Pasadena Humane - ECPv6.15.15//NONSGML v1.0//EN
CALSCALE:GREGORIAN
METHOD:PUBLISH
X-WR-CALNAME:Pasadena Humane
X-ORIGINAL-URL:https://pasadenahumane.org
X-WR-CALDESC:Events for Pasadena Humane
REFRESH-INTERVAL;VALUE=DURATION:PT1H
X-Robots-Tag:noindex
X-PUBLISHED-TTL:PT1H
BEGIN:VTIMEZONE
TZID:America/Los_Angeles
BEGIN:DAYLIGHT
TZOFFSETFROM:-0800
TZOFFSETTO:-0700
TZNAME:PDT
DTSTART:20230312T100000
END:DAYLIGHT
BEGIN:STANDARD
TZOFFSETFROM:-0700
TZOFFSETTO:-0800
TZNAME:PST
DTSTART:20231105T090000
END:STANDARD
BEGIN:DAYLIGHT
TZOFFSETFROM:-0800
TZOFFSETTO:-0700
TZNAME:PDT
DTSTART:20240310T100000
END:DAYLIGHT
BEGIN:STANDARD
TZOFFSETFROM:-0700
TZOFFSETTO:-0800
TZNAME:PST
DTSTART:20241103T090000
END:STANDARD
BEGIN:DAYLIGHT
TZOFFSETFROM:-0800
TZOFFSETTO:-0700
TZNAME:PDT
DTSTART:20250309T100000
END:DAYLIGHT
BEGIN:STANDARD
TZOFFSETFROM:-0700
TZOFFSETTO:-0800
TZNAME:PST
DTSTART:20251102T090000
END:STANDARD
END:VTIMEZONE
BEGIN:VEVENT
DTSTART;TZID=America/Los_Angeles:20240801T080000
DTEND;TZID=America/Los_Angeles:20240801T113000
DTSTAMP:20260424T030822
CREATED:20240215T005614Z
LAST-MODIFIED:20240215T005614Z
UID:10002071-1722499200-1722511800@pasadenahumane.org
SUMMARY:Junior Vets Summer Camp (Ages 7-11): Session 4 - Morning
DESCRIPTION:Get ready for the ultimate adventure at Pasadena Humane’s Junior Vet Summer Camp! Explore the fascinating worlds of companion animals and urban wildlife while playing games and diving into social-emotional learning. Unravel the secrets of animal behavior\, venture into the exciting world of veterinary medicine\, and make many adorable new furry friends along the way. Our camp offers tailor-made fun for ages 7-11\, ensuring a blast for everyone involved. With up to 25 enthusiastic campers per session\, each child gets their own supplies for an amazing journey! \nScholarships are available. Please apply here.
URL:https://pasadenahumane.org/phs-event/junior-vets-summer-camp-ages-7-11-session-4-morning/2024-08-01/
CATEGORIES:Humane Education
END:VEVENT
BEGIN:VEVENT
DTSTART;TZID=America/Los_Angeles:20240801T120000
DTEND;TZID=America/Los_Angeles:20240801T153000
DTSTAMP:20260424T030822
CREATED:20240215T010026Z
LAST-MODIFIED:20240215T010026Z
UID:10002079-1722513600-1722526200@pasadenahumane.org
SUMMARY:Junior Vets Summer Camp (Ages 7-11): Session 4 - Afternoon
DESCRIPTION:Get ready for the ultimate adventure at Pasadena Humane’s Junior Vet Summer Camp! Explore the fascinating worlds of companion animals and urban wildlife while playing games and diving into social-emotional learning. Unravel the secrets of animal behavior\, venture into the exciting world of veterinary medicine\, and make many adorable new furry friends along the way. Our camp offers tailor-made fun for ages 7-11\, ensuring a blast for everyone involved. With up to 25 enthusiastic campers per session\, each child gets their own supplies for an amazing journey! \nScholarships are available. Please apply here.
URL:https://pasadenahumane.org/phs-event/junior-vets-summer-camp-ages-7-11-session-4-afternoon/2024-08-01/
CATEGORIES:Humane Education
END:VEVENT
BEGIN:VEVENT
DTSTART;TZID=America/Los_Angeles:20240805T080000
DTEND;TZID=America/Los_Angeles:20240805T113000
DTSTAMP:20260424T030822
CREATED:20240215T010259Z
LAST-MODIFIED:20240215T010259Z
UID:10002080-1722844800-1722857400@pasadenahumane.org
SUMMARY:Junior Volunteers Summer Camp (Ages 12-14): Session 5 - Morning
DESCRIPTION:Unleash compassion at Pasadena Humane’s Junior Volunteer Summer Camp! Ages 12-14 engage in animal care with hands-on activities: crafting kittens\, assembling care packages\, creating tasty treats for shelter dogs\, and more. Learn responsibility\, empathy\, and teamwork\, and earn service hours. Join us for a summer of making tails wag\, and hearts soar! Every session welcomes up to 25 eager campers\, ensuring each child receives their own set of supplies for an incredible adventure! \nScholarships are available. Please apply here.
URL:https://pasadenahumane.org/phs-event/junior-volunteers-summer-camp-ages-12-14-session-5-morning/2024-08-05/
CATEGORIES:Humane Education
END:VEVENT
BEGIN:VEVENT
DTSTART;TZID=America/Los_Angeles:20240805T123000
DTEND;TZID=America/Los_Angeles:20240805T160000
DTSTAMP:20260424T030822
CREATED:20240215T010433Z
LAST-MODIFIED:20240215T010433Z
UID:10002084-1722861000-1722873600@pasadenahumane.org
SUMMARY:Junior Volunteers Summer Camp (Ages 12-14): Session 5 - Afternoon
DESCRIPTION:Unleash compassion at Pasadena Humane’s Junior Volunteer Summer Camp! Ages 12-14 engage in animal care with hands-on activities: crafting kittens\, assembling care packages\, creating tasty treats for shelter dogs\, and more. Learn responsibility\, empathy\, and teamwork\, and earn service hours. Join us for a summer of making tails wag\, and hearts soar! Every session welcomes up to 25 eager campers\, ensuring each child receives their own set of supplies for an incredible adventure! \nScholarships are available. Please apply here.
URL:https://pasadenahumane.org/phs-event/junior-volunteers-summer-camp-ages-12-14-session-5-afternoon/2024-08-05/
CATEGORIES:Humane Education
END:VEVENT
BEGIN:VEVENT
DTSTART;TZID=America/Los_Angeles:20240806T080000
DTEND;TZID=America/Los_Angeles:20240806T113000
DTSTAMP:20260424T030822
CREATED:20240215T010259Z
LAST-MODIFIED:20240215T010259Z
UID:10002081-1722931200-1722943800@pasadenahumane.org
SUMMARY:Junior Volunteers Summer Camp (Ages 12-14): Session 5 - Morning
DESCRIPTION:Unleash compassion at Pasadena Humane’s Junior Volunteer Summer Camp! Ages 12-14 engage in animal care with hands-on activities: crafting kittens\, assembling care packages\, creating tasty treats for shelter dogs\, and more. Learn responsibility\, empathy\, and teamwork\, and earn service hours. Join us for a summer of making tails wag\, and hearts soar! Every session welcomes up to 25 eager campers\, ensuring each child receives their own set of supplies for an incredible adventure! \nScholarships are available. Please apply here.
URL:https://pasadenahumane.org/phs-event/junior-volunteers-summer-camp-ages-12-14-session-5-morning/2024-08-06/
CATEGORIES:Humane Education
END:VEVENT
BEGIN:VEVENT
DTSTART;TZID=America/Los_Angeles:20240806T123000
DTEND;TZID=America/Los_Angeles:20240806T160000
DTSTAMP:20260424T030822
CREATED:20240215T010433Z
LAST-MODIFIED:20240215T010433Z
UID:10002085-1722947400-1722960000@pasadenahumane.org
SUMMARY:Junior Volunteers Summer Camp (Ages 12-14): Session 5 - Afternoon
DESCRIPTION:Unleash compassion at Pasadena Humane’s Junior Volunteer Summer Camp! Ages 12-14 engage in animal care with hands-on activities: crafting kittens\, assembling care packages\, creating tasty treats for shelter dogs\, and more. Learn responsibility\, empathy\, and teamwork\, and earn service hours. Join us for a summer of making tails wag\, and hearts soar! Every session welcomes up to 25 eager campers\, ensuring each child receives their own set of supplies for an incredible adventure! \nScholarships are available. Please apply here.
URL:https://pasadenahumane.org/phs-event/junior-volunteers-summer-camp-ages-12-14-session-5-afternoon/2024-08-06/
CATEGORIES:Humane Education
END:VEVENT
BEGIN:VEVENT
DTSTART;TZID=America/Los_Angeles:20240807T080000
DTEND;TZID=America/Los_Angeles:20240807T113000
DTSTAMP:20260424T030822
CREATED:20240215T010259Z
LAST-MODIFIED:20240215T010259Z
UID:10002082-1723017600-1723030200@pasadenahumane.org
SUMMARY:Junior Volunteers Summer Camp (Ages 12-14): Session 5 - Morning
DESCRIPTION:Unleash compassion at Pasadena Humane’s Junior Volunteer Summer Camp! Ages 12-14 engage in animal care with hands-on activities: crafting kittens\, assembling care packages\, creating tasty treats for shelter dogs\, and more. Learn responsibility\, empathy\, and teamwork\, and earn service hours. Join us for a summer of making tails wag\, and hearts soar! Every session welcomes up to 25 eager campers\, ensuring each child receives their own set of supplies for an incredible adventure! \nScholarships are available. Please apply here.
URL:https://pasadenahumane.org/phs-event/junior-volunteers-summer-camp-ages-12-14-session-5-morning/2024-08-07/
CATEGORIES:Humane Education
END:VEVENT
BEGIN:VEVENT
DTSTART;TZID=America/Los_Angeles:20240807T123000
DTEND;TZID=America/Los_Angeles:20240807T160000
DTSTAMP:20260424T030822
CREATED:20240215T010433Z
LAST-MODIFIED:20240215T010433Z
UID:10002086-1723033800-1723046400@pasadenahumane.org
SUMMARY:Junior Volunteers Summer Camp (Ages 12-14): Session 5 - Afternoon
DESCRIPTION:Unleash compassion at Pasadena Humane’s Junior Volunteer Summer Camp! Ages 12-14 engage in animal care with hands-on activities: crafting kittens\, assembling care packages\, creating tasty treats for shelter dogs\, and more. Learn responsibility\, empathy\, and teamwork\, and earn service hours. Join us for a summer of making tails wag\, and hearts soar! Every session welcomes up to 25 eager campers\, ensuring each child receives their own set of supplies for an incredible adventure! \nScholarships are available. Please apply here.
URL:https://pasadenahumane.org/phs-event/junior-volunteers-summer-camp-ages-12-14-session-5-afternoon/2024-08-07/
CATEGORIES:Humane Education
END:VEVENT
BEGIN:VEVENT
DTSTART;TZID=America/Los_Angeles:20240808T080000
DTEND;TZID=America/Los_Angeles:20240808T113000
DTSTAMP:20260424T030822
CREATED:20240215T010259Z
LAST-MODIFIED:20240215T010259Z
UID:10002083-1723104000-1723116600@pasadenahumane.org
SUMMARY:Junior Volunteers Summer Camp (Ages 12-14): Session 5 - Morning
DESCRIPTION:Unleash compassion at Pasadena Humane’s Junior Volunteer Summer Camp! Ages 12-14 engage in animal care with hands-on activities: crafting kittens\, assembling care packages\, creating tasty treats for shelter dogs\, and more. Learn responsibility\, empathy\, and teamwork\, and earn service hours. Join us for a summer of making tails wag\, and hearts soar! Every session welcomes up to 25 eager campers\, ensuring each child receives their own set of supplies for an incredible adventure! \nScholarships are available. Please apply here.
URL:https://pasadenahumane.org/phs-event/junior-volunteers-summer-camp-ages-12-14-session-5-morning/2024-08-08/
CATEGORIES:Humane Education
END:VEVENT
BEGIN:VEVENT
DTSTART;TZID=America/Los_Angeles:20240808T123000
DTEND;TZID=America/Los_Angeles:20240808T160000
DTSTAMP:20260424T030822
CREATED:20240215T010433Z
LAST-MODIFIED:20240215T010433Z
UID:10002087-1723120200-1723132800@pasadenahumane.org
SUMMARY:Junior Volunteers Summer Camp (Ages 12-14): Session 5 - Afternoon
DESCRIPTION:Unleash compassion at Pasadena Humane’s Junior Volunteer Summer Camp! Ages 12-14 engage in animal care with hands-on activities: crafting kittens\, assembling care packages\, creating tasty treats for shelter dogs\, and more. Learn responsibility\, empathy\, and teamwork\, and earn service hours. Join us for a summer of making tails wag\, and hearts soar! Every session welcomes up to 25 eager campers\, ensuring each child receives their own set of supplies for an incredible adventure! \nScholarships are available. Please apply here.
URL:https://pasadenahumane.org/phs-event/junior-volunteers-summer-camp-ages-12-14-session-5-afternoon/2024-08-08/
CATEGORIES:Humane Education
END:VEVENT
BEGIN:VEVENT
DTSTART;TZID=America/Los_Angeles:20240827T153000
DTEND;TZID=America/Los_Angeles:20240827T173000
DTSTAMP:20260424T030822
CREATED:20240621T023737Z
LAST-MODIFIED:20240621T183650Z
UID:10002489-1724772600-1724779800@pasadenahumane.org
SUMMARY:Junior Vets Club (Ages 7-11)
DESCRIPTION:$200 per four-week session \nJoin the excitement with our Jr. Vets Club—an immersive after-school program designed to captivate children aged 7 to 11. Your child will be part of an extraordinary journey of discovery and compassion. Dive into engaging topics such as veterinary health\, wildlife conservation\, and the thrilling world of animal careers. But it’s not just about learning; it’s hands-on action! Your child will actively participate in meaningful service projects\, fostering a deep connection with our furry and feathered friends. \nJoin us every Tuesday from 3:30 p.m. to 5:30 p.m.\, providing your child with the chance to unleash their creativity while making a positive impact on the world of animals. \n*While we cannot guarantee an animal experience in every session\, we strive to introduce children to safe and suitable encounters with our furry companions when possible. \nScholarships are available. Please apply here. \nUpcoming Sessions: \nSign up for our next session beginning Tuesday\, August 27!
URL:https://pasadenahumane.org/phs-event/junior-vets-club/2024-08-27/
CATEGORIES:Humane Education
ATTACH;FMTTYPE=image/jpeg:https://pasadenahumane.org/wp-content/uploads/2023/07/kfaclub_kids_small.jpg
END:VEVENT
BEGIN:VEVENT
DTSTART;TZID=America/Los_Angeles:20240828T153000
DTEND;TZID=America/Los_Angeles:20240828T173000
DTSTAMP:20260424T030822
CREATED:20240621T023932Z
LAST-MODIFIED:20240621T183748Z
UID:10002545-1724859000-1724866200@pasadenahumane.org
SUMMARY:Junior Volunteers (Ages 12-14)
DESCRIPTION:$215 per four-week session \nEmbark on a compassionate journey with Jr. Volunteers at Pasadena Humane! Designed for ages 12-14\, this four-week program on Wednesdays from 3:30 p.m.-5:30 p.m. immerses young animal enthusiasts in the realms of animal husbandry and enrichment with service activities like making essential heating pads for neonatal kittens\, assembling care packages for different teams and creating pupsicles for shelter dogs. Jr. Volunteers will practice the values of responsibility\, empathy\, teamwork\, and service. Jr. Volunteers will receive service hours for each class they attend. \nWith a registration fee of $215\, extend a helping hand to paws in need and join us in fostering a community of caring hearts! \n*While we cannot guarantee an animal experience in every session\, we strive to introduce children to safe and suitable encounters with our furry companions when possible. \nScholarships are available. Please apply here. \nUpcoming Sessions: \nSign up for our next session beginning Wednesday\, August 28!
URL:https://pasadenahumane.org/phs-event/junior-volunteers-ages-12-14-2/2024-08-28/
CATEGORIES:Humane Education
ATTACH;FMTTYPE=image/jpeg:https://pasadenahumane.org/wp-content/uploads/2023/12/20230510-IMG_5578-scaled.jpg
END:VEVENT
END:VCALENDAR