BEGIN:VCALENDAR
VERSION:2.0
PRODID:-//Pasadena Humane - ECPv6.15.15//NONSGML v1.0//EN
CALSCALE:GREGORIAN
METHOD:PUBLISH
X-WR-CALNAME:Pasadena Humane
X-ORIGINAL-URL:https://pasadenahumane.org
X-WR-CALDESC:Events for Pasadena Humane
REFRESH-INTERVAL;VALUE=DURATION:PT1H
X-Robots-Tag:noindex
X-PUBLISHED-TTL:PT1H
BEGIN:VTIMEZONE
TZID:America/Los_Angeles
BEGIN:DAYLIGHT
TZOFFSETFROM:-0800
TZOFFSETTO:-0700
TZNAME:PDT
DTSTART:20240310T100000
END:DAYLIGHT
BEGIN:STANDARD
TZOFFSETFROM:-0700
TZOFFSETTO:-0800
TZNAME:PST
DTSTART:20241103T090000
END:STANDARD
BEGIN:DAYLIGHT
TZOFFSETFROM:-0800
TZOFFSETTO:-0700
TZNAME:PDT
DTSTART:20250309T100000
END:DAYLIGHT
BEGIN:STANDARD
TZOFFSETFROM:-0700
TZOFFSETTO:-0800
TZNAME:PST
DTSTART:20251102T090000
END:STANDARD
BEGIN:DAYLIGHT
TZOFFSETFROM:-0800
TZOFFSETTO:-0700
TZNAME:PDT
DTSTART:20260308T100000
END:DAYLIGHT
BEGIN:STANDARD
TZOFFSETFROM:-0700
TZOFFSETTO:-0800
TZNAME:PST
DTSTART:20261101T090000
END:STANDARD
END:VTIMEZONE
BEGIN:VEVENT
DTSTART;TZID=America/Los_Angeles:20250309T090000
DTEND;TZID=America/Los_Angeles:20250309T101500
DTSTAMP:20260421T055057
CREATED:20241127T184216Z
LAST-MODIFIED:20250304T185900Z
UID:10003561-1741510800-1741515300@pasadenahumane.org
SUMMARY:Scout Programs
DESCRIPTION:Set out on an unforgettable adventure with our Scout Programs! Dive into a 75-minute immersive experience for scouts to earn an exclusive Pasadena Humane patch. Engage in hands-on educational activities\, enriching encounters\, and meaningful service tasks. Our expert-led exploration allows groups of up to 20 scouts\, accompanied by two adult chaperones\, to uncover the care we provide to the diverse animals that pass through our shelter annually. \nYour troop can choose: \n\nThe Pasadena Humane experience which is suitable for all ages within any troop where your troop will go on a tour and engage in a service project for shelter animals depending on shelter needs.\nThe Tailored program meets patch scout requirements ranging from Brownies to Cadettes. These tailored programs ensure an educational journey resonating deeply with each scout’s level and interests.\n\nJoin us and let the curiosity of your troop ignite as they discover\, learn\, and earn a badge that signifies their dedication to animal welfare. It’s more than a visit—it’s an inspiring experience that fosters compassion and knowledge in young minds while supporting our mission to care for and protect our beloved animal companions.
URL:https://pasadenahumane.org/phs-event/scout-programs-4/2025-03-09/1/
ATTACH;FMTTYPE=image/jpeg:https://pasadenahumane.org/wp-content/uploads/2024/11/Scouts.jpg
END:VEVENT
BEGIN:VEVENT
DTSTART;TZID=America/Los_Angeles:20250309T110000
DTEND;TZID=America/Los_Angeles:20250309T121500
DTSTAMP:20260421T055057
CREATED:20241127T184216Z
LAST-MODIFIED:20250304T185900Z
UID:10003562-1741518000-1741522500@pasadenahumane.org
SUMMARY:Scout Programs
DESCRIPTION:Set out on an unforgettable adventure with our Scout Programs! Dive into a 75-minute immersive experience for scouts to earn an exclusive Pasadena Humane patch. Engage in hands-on educational activities\, enriching encounters\, and meaningful service tasks. Our expert-led exploration allows groups of up to 20 scouts\, accompanied by two adult chaperones\, to uncover the care we provide to the diverse animals that pass through our shelter annually. \nYour troop can choose: \n\nThe Pasadena Humane experience which is suitable for all ages within any troop where your troop will go on a tour and engage in a service project for shelter animals depending on shelter needs.\nThe Tailored program meets patch scout requirements ranging from Brownies to Cadettes. These tailored programs ensure an educational journey resonating deeply with each scout’s level and interests.\n\nJoin us and let the curiosity of your troop ignite as they discover\, learn\, and earn a badge that signifies their dedication to animal welfare. It’s more than a visit—it’s an inspiring experience that fosters compassion and knowledge in young minds while supporting our mission to care for and protect our beloved animal companions.
URL:https://pasadenahumane.org/phs-event/scout-programs-4/2025-03-09/2/
ATTACH;FMTTYPE=image/jpeg:https://pasadenahumane.org/wp-content/uploads/2024/11/Scouts.jpg
END:VEVENT
BEGIN:VEVENT
DTSTART;TZID=America/Los_Angeles:20250309T110000
DTEND;TZID=America/Los_Angeles:20250309T160000
DTSTAMP:20260421T055057
CREATED:20250219T183709Z
LAST-MODIFIED:20250219T183709Z
UID:10003426-1741518000-1741536000@pasadenahumane.org
SUMMARY:Barks & Brews Presented by Fera Pets at the LA Arboretum and Botanic Garden
DESCRIPTION:Enjoy a day of barks\, brews\, and canine fun in the garden at the Los Angeles County Arboretum & Botanic Garden! Our Wiggle Waggle Waggin’ will be in attendance with adoptable dogs from 11 a.m. to 2 p.m. Purchase delicious bites and beer from food trucks and The Mt. Lowe Brewing Company\, have free dog portraits taken\, and visit info tables while giving pups a tour of the garden. Dogs with an adventurous streak can try their paw at an agility course. \nAdmission is free for Arboretum members. There is a $10 dog fee for both members and non-members. \nDog fees benefit Pasadena Humane and the LA Arboretum.
URL:https://pasadenahumane.org/phs-event/barks-brews-presented-by-fera-pets-at-the-la-arboretum-and-botanic-garden/
CATEGORIES:Waggin
END:VEVENT
END:VCALENDAR