BEGIN:VCALENDAR
VERSION:2.0
PRODID:-//Pasadena Humane - ECPv6.15.15//NONSGML v1.0//EN
CALSCALE:GREGORIAN
METHOD:PUBLISH
X-WR-CALNAME:Pasadena Humane
X-ORIGINAL-URL:https://pasadenahumane.org
X-WR-CALDESC:Events for Pasadena Humane
REFRESH-INTERVAL;VALUE=DURATION:PT1H
X-Robots-Tag:noindex
X-PUBLISHED-TTL:PT1H
BEGIN:VTIMEZONE
TZID:America/Los_Angeles
BEGIN:DAYLIGHT
TZOFFSETFROM:-0800
TZOFFSETTO:-0700
TZNAME:PDT
DTSTART:20240310T100000
END:DAYLIGHT
BEGIN:STANDARD
TZOFFSETFROM:-0700
TZOFFSETTO:-0800
TZNAME:PST
DTSTART:20241103T090000
END:STANDARD
BEGIN:DAYLIGHT
TZOFFSETFROM:-0800
TZOFFSETTO:-0700
TZNAME:PDT
DTSTART:20250309T100000
END:DAYLIGHT
BEGIN:STANDARD
TZOFFSETFROM:-0700
TZOFFSETTO:-0800
TZNAME:PST
DTSTART:20251102T090000
END:STANDARD
BEGIN:DAYLIGHT
TZOFFSETFROM:-0800
TZOFFSETTO:-0700
TZNAME:PDT
DTSTART:20260308T100000
END:DAYLIGHT
BEGIN:STANDARD
TZOFFSETFROM:-0700
TZOFFSETTO:-0800
TZNAME:PST
DTSTART:20261101T090000
END:STANDARD
END:VTIMEZONE
BEGIN:VEVENT
DTSTART;TZID=America/Los_Angeles:20250216T090000
DTEND;TZID=America/Los_Angeles:20250216T101500
DTSTAMP:20260421T160944
CREATED:20241127T184216Z
LAST-MODIFIED:20250304T185900Z
UID:10003245-1739696400-1739700900@pasadenahumane.org
SUMMARY:Scout Programs
DESCRIPTION:Set out on an unforgettable adventure with our Scout Programs! Dive into a 75-minute immersive experience for scouts to earn an exclusive Pasadena Humane patch. Engage in hands-on educational activities\, enriching encounters\, and meaningful service tasks. Our expert-led exploration allows groups of up to 20 scouts\, accompanied by two adult chaperones\, to uncover the care we provide to the diverse animals that pass through our shelter annually. \nYour troop can choose: \n\nThe Pasadena Humane experience which is suitable for all ages within any troop where your troop will go on a tour and engage in a service project for shelter animals depending on shelter needs.\nThe Tailored program meets patch scout requirements ranging from Brownies to Cadettes. These tailored programs ensure an educational journey resonating deeply with each scout’s level and interests.\n\nJoin us and let the curiosity of your troop ignite as they discover\, learn\, and earn a badge that signifies their dedication to animal welfare. It’s more than a visit—it’s an inspiring experience that fosters compassion and knowledge in young minds while supporting our mission to care for and protect our beloved animal companions.
URL:https://pasadenahumane.org/phs-event/scout-programs-4/2025-02-16/1/
ATTACH;FMTTYPE=image/jpeg:https://pasadenahumane.org/wp-content/uploads/2024/11/Scouts.jpg
END:VEVENT
BEGIN:VEVENT
DTSTART;TZID=America/Los_Angeles:20250216T100000
DTEND;TZID=America/Los_Angeles:20250216T104500
DTSTAMP:20260421T160944
CREATED:20241219T190509Z
LAST-MODIFIED:20250228T221306Z
UID:10003387-1739700000-1739702700@pasadenahumane.org
SUMMARY:Pre-Teen Pups
DESCRIPTION:They grow up so fast! Got a pup who thinks they’re too cool for school? We’ve got you covered. ‘Tween pups between 4-6 months of age are welcome to attend this 3 week mini-course. Pet parents will learn how to navigate through frustration & boredom behaviors such as jumping\, barking\, & mouthing. We’ll teach your ‘tween to relax while you learn motivating training building blocks that will carry you through adolescence and beyond! \n\nDogs must be between 4-6 months of age at start of class date\nDogs must have one adult pet parent present\n$75 for 3-week course\nYour puppy must be up-to-date on age-appropriate vaccines\n\n\n\n\n\n\n\n\n\n 
URL:https://pasadenahumane.org/phs-event/pre-teen-pups-9/2025-02-16/
CATEGORIES:Training Classes
ATTACH;FMTTYPE=image/jpeg:https://pasadenahumane.org/wp-content/uploads/2023/06/PasadenaHumane2023_Sebastian_LF_794A5426_2.jpg
END:VEVENT
BEGIN:VEVENT
DTSTART;TZID=America/Los_Angeles:20250216T110000
DTEND;TZID=America/Los_Angeles:20250216T121500
DTSTAMP:20260421T160944
CREATED:20241127T184216Z
LAST-MODIFIED:20250304T185900Z
UID:10003246-1739703600-1739708100@pasadenahumane.org
SUMMARY:Scout Programs
DESCRIPTION:Set out on an unforgettable adventure with our Scout Programs! Dive into a 75-minute immersive experience for scouts to earn an exclusive Pasadena Humane patch. Engage in hands-on educational activities\, enriching encounters\, and meaningful service tasks. Our expert-led exploration allows groups of up to 20 scouts\, accompanied by two adult chaperones\, to uncover the care we provide to the diverse animals that pass through our shelter annually. \nYour troop can choose: \n\nThe Pasadena Humane experience which is suitable for all ages within any troop where your troop will go on a tour and engage in a service project for shelter animals depending on shelter needs.\nThe Tailored program meets patch scout requirements ranging from Brownies to Cadettes. These tailored programs ensure an educational journey resonating deeply with each scout’s level and interests.\n\nJoin us and let the curiosity of your troop ignite as they discover\, learn\, and earn a badge that signifies their dedication to animal welfare. It’s more than a visit—it’s an inspiring experience that fosters compassion and knowledge in young minds while supporting our mission to care for and protect our beloved animal companions.
URL:https://pasadenahumane.org/phs-event/scout-programs-4/2025-02-16/2/
ATTACH;FMTTYPE=image/jpeg:https://pasadenahumane.org/wp-content/uploads/2024/11/Scouts.jpg
END:VEVENT
BEGIN:VEVENT
DTSTART;TZID=America/Los_Angeles:20250216T140000
DTEND;TZID=America/Los_Angeles:20250216T170000
DTSTAMP:20260421T160944
CREATED:20221228T204945Z
LAST-MODIFIED:20250218T204805Z
UID:10001373-1739714400-1739725200@pasadenahumane.org
SUMMARY:Visiting Hours
DESCRIPTION:Pasadena Humane opens its doors for “Visiting Hours” on Saturdays and Sundays from 2:00 to 5:00 p.m. (unless otherwise noted). \nVisitors are welcome to walk through the dog kennels\, Neely Cat Center and Critter House to see the animals available for adoption. No appointment necessary.
URL:https://pasadenahumane.org/phs-event/visiting-hours-7/2025-02-16/
ATTACH;FMTTYPE=image/jpeg:https://pasadenahumane.org/wp-content/uploads/2022/11/neely_kittens-scaled.jpg
END:VEVENT
END:VCALENDAR