BEGIN:VCALENDAR
VERSION:2.0
PRODID:-//Pasadena Humane - ECPv6.15.15//NONSGML v1.0//EN
CALSCALE:GREGORIAN
METHOD:PUBLISH
X-WR-CALNAME:Pasadena Humane
X-ORIGINAL-URL:https://pasadenahumane.org
X-WR-CALDESC:Events for Pasadena Humane
REFRESH-INTERVAL;VALUE=DURATION:PT1H
X-Robots-Tag:noindex
X-PUBLISHED-TTL:PT1H
BEGIN:VTIMEZONE
TZID:America/Los_Angeles
BEGIN:DAYLIGHT
TZOFFSETFROM:-0800
TZOFFSETTO:-0700
TZNAME:PDT
DTSTART:20240310T100000
END:DAYLIGHT
BEGIN:STANDARD
TZOFFSETFROM:-0700
TZOFFSETTO:-0800
TZNAME:PST
DTSTART:20241103T090000
END:STANDARD
BEGIN:DAYLIGHT
TZOFFSETFROM:-0800
TZOFFSETTO:-0700
TZNAME:PDT
DTSTART:20250309T100000
END:DAYLIGHT
BEGIN:STANDARD
TZOFFSETFROM:-0700
TZOFFSETTO:-0800
TZNAME:PST
DTSTART:20251102T090000
END:STANDARD
BEGIN:DAYLIGHT
TZOFFSETFROM:-0800
TZOFFSETTO:-0700
TZNAME:PDT
DTSTART:20260308T100000
END:DAYLIGHT
BEGIN:STANDARD
TZOFFSETFROM:-0700
TZOFFSETTO:-0800
TZNAME:PST
DTSTART:20261101T090000
END:STANDARD
END:VTIMEZONE
BEGIN:VEVENT
DTSTART;TZID=America/Los_Angeles:20250211T173000
DTEND;TZID=America/Los_Angeles:20250211T181500
DTSTAMP:20260421T200205
CREATED:20241219T182332Z
LAST-MODIFIED:20250219T005733Z
UID:10003357-1739295000-1739297700@pasadenahumane.org
SUMMARY:Large Dog Reactive Rovers
DESCRIPTION:Is your dog making a scene when they see other dogs on leash\, moving vehicles\, or wildlife? Has all the barking\, lunging\, and growling become just too much for you to handle? In this 5-week course\, our trainers will help you to build essential training and coping skills for your dog. Our classroom setup is designed to reduce visual contact and is limited to only 6 students. Appropriate for dogs 30 lbs. and over. We recommend that dogs with reactivity at distances of 20ft. or more seek private help from a certified professional dog consultant prior to attending this class. \n\nFor dogs 30 lbs. and over\nDogs must have at least one adult pet parent present\n$245 per 5-week session \nThis class is not appropriate for dogs with a bite history or who are reactive to people\nYour dog must be up-to-date on age-appropriate vaccines\n\nThis class meets: \nTuesdays\, February 11-March 11\, 5:30-6:15 p.m.
URL:https://pasadenahumane.org/phs-event/large-dog-reactive-rovers-17/2025-02-11/
CATEGORIES:Training Classes
ATTACH;FMTTYPE=image/jpeg:https://pasadenahumane.org/wp-content/uploads/2023/06/PasadenaHumane2023_Magnolia_LF_794A5725.jpg
END:VEVENT
BEGIN:VEVENT
DTSTART;TZID=America/Los_Angeles:20250211T173000
DTEND;TZID=America/Los_Angeles:20250211T181500
DTSTAMP:20260421T200205
CREATED:20241219T183215Z
LAST-MODIFIED:20250219T010637Z
UID:10003367-1739295000-1739297700@pasadenahumane.org
SUMMARY:Large Dog Reactive Rovers - AUDIT
DESCRIPTION:Large Dog Reactive Rovers – AUDIT (LDRR-A) is for pet guardians of reactive dogs who would like to learn from our certified trainers without taking their dog to class. Students who audit may take notes and observe other dog handler teams in our Large Dog Reactive Rovers course. You will have the same access to instructional homework assignments to work with your dog in the comfort of your home. “Ask-a-trainer” email access is also included. Perfect for those whose dog may be reactive to people\, are scent/sound sensitive\, or are too anxious to work in the classroom environment. \n\n$180 for 5 week course\nEach session is 45 minutes in length\nLimit 2 Audit students per class\nPlease no audio or video recording during class\nFor pet guardians only. Do not bring your pet to class\n\nThis class meets: \nTuesdays\, February 11-March 11\, 5:30-6:15 p.m.
URL:https://pasadenahumane.org/phs-event/large-dog-reactive-rovers-audit-7/2025-02-11/
CATEGORIES:Training Classes
END:VEVENT
BEGIN:VEVENT
DTSTART;TZID=America/Los_Angeles:20250211T190000
DTEND;TZID=America/Los_Angeles:20250211T194500
DTSTAMP:20260421T200205
CREATED:20241219T182548Z
LAST-MODIFIED:20250219T010341Z
UID:10003362-1739300400-1739303100@pasadenahumane.org
SUMMARY:Large Dog Reactive Rovers
DESCRIPTION:Is your dog making a scene when they see other dogs on leash\, moving vehicles\, or wildlife? Has all the barking\, lunging\, and growling become just too much for you to handle? In this 5-week course\, our trainers will help you to build essential training and coping skills for your dog. Our classroom setup is designed to reduce visual contact and is limited to only 6 students. Appropriate for dogs 30 lbs. and over. We recommend that dogs with reactivity at distances of 20ft. or more seek private help from a certified professional dog consultant prior to attending this class. \n\nFor dogs 30 lbs. and over\nDogs must have at least one adult pet parent present\n$245 per 5-week session \nThis class is not appropriate for dogs with a bite history or who are reactive to people\nYour dog must be up-to-date on age-appropriate vaccines\n\nThis class meets: \nTuesdays\, February 11-March 11\, 7-7:45 p.m.
URL:https://pasadenahumane.org/phs-event/large-dog-reactive-rovers-18/2025-02-11/
CATEGORIES:Training Classes
ATTACH;FMTTYPE=image/jpeg:https://pasadenahumane.org/wp-content/uploads/2023/06/PasadenaHumane2023_Magnolia_LF_794A5725.jpg
END:VEVENT
BEGIN:VEVENT
DTSTART;TZID=America/Los_Angeles:20250211T190000
DTEND;TZID=America/Los_Angeles:20250211T194500
DTSTAMP:20260421T200205
CREATED:20241219T183818Z
LAST-MODIFIED:20250228T224515Z
UID:10003372-1739300400-1739303100@pasadenahumane.org
SUMMARY:Large Dog Reactive Rovers - AUDIT
DESCRIPTION:Large Dog Reactive Rovers – AUDIT (LDRR-A) is for pet guardians of reactive dogs who would like to learn from our certified trainers without taking their dog to class. Students who audit may take notes and observe other dog handler teams in our Large Dog Reactive Rovers course. You will have the same access to instructional homework assignments to work with your dog in the comfort of your home. “Ask-a-trainer” email access is also included. Perfect for those whose dog may be reactive to people\, are scent/sound sensitive\, or are too anxious to work in the classroom environment. \n\n$180 for 5 week course\nEach session is 45 minutes in length\nLimit 2 Audit students per class\nPlease no audio or video recording during class\nFor pet guardians only. Do not bring your pet to class\n\nThis class meets: \nTuesdays\, February 11-March 11\, 7-7:45 p.m.
URL:https://pasadenahumane.org/phs-event/large-dog-reactive-rovers-audit-8/2025-02-11/
CATEGORIES:Training Classes
END:VEVENT
END:VCALENDAR