BEGIN:VCALENDAR
VERSION:2.0
PRODID:-//Pasadena Humane - ECPv6.15.15//NONSGML v1.0//EN
CALSCALE:GREGORIAN
METHOD:PUBLISH
X-WR-CALNAME:Pasadena Humane
X-ORIGINAL-URL:https://pasadenahumane.org
X-WR-CALDESC:Events for Pasadena Humane
REFRESH-INTERVAL;VALUE=DURATION:PT1H
X-Robots-Tag:noindex
X-PUBLISHED-TTL:PT1H
BEGIN:VTIMEZONE
TZID:America/Los_Angeles
BEGIN:DAYLIGHT
TZOFFSETFROM:-0800
TZOFFSETTO:-0700
TZNAME:PDT
DTSTART:20230312T100000
END:DAYLIGHT
BEGIN:STANDARD
TZOFFSETFROM:-0700
TZOFFSETTO:-0800
TZNAME:PST
DTSTART:20231105T090000
END:STANDARD
BEGIN:DAYLIGHT
TZOFFSETFROM:-0800
TZOFFSETTO:-0700
TZNAME:PDT
DTSTART:20240310T100000
END:DAYLIGHT
BEGIN:STANDARD
TZOFFSETFROM:-0700
TZOFFSETTO:-0800
TZNAME:PST
DTSTART:20241103T090000
END:STANDARD
BEGIN:DAYLIGHT
TZOFFSETFROM:-0800
TZOFFSETTO:-0700
TZNAME:PDT
DTSTART:20250309T100000
END:DAYLIGHT
BEGIN:STANDARD
TZOFFSETFROM:-0700
TZOFFSETTO:-0800
TZNAME:PST
DTSTART:20251102T090000
END:STANDARD
END:VTIMEZONE
BEGIN:VEVENT
DTSTART;TZID=America/Los_Angeles:20241219T173000
DTEND;TZID=America/Los_Angeles:20241219T181500
DTSTAMP:20260421T071125
CREATED:20241204T002924Z
LAST-MODIFIED:20241204T002924Z
UID:10003270-1734629400-1734632100@pasadenahumane.org
SUMMARY:Howliday Manners
DESCRIPTION:‘Tis the season for holiday house guests and surprise visitors! Do you want to eat\, drink\, and be merry\, but all your dog wants to do is bark at your favorite uncle and attempt a high jump onto the dessert table? In this 45-minute workshop\, we’ll work on polite greetings\, mat relaxation\, learn to keep all four of those paws firmly on the floor\, and even some “just in case” skills like “drop it.” To enroll\, your dog must be comfortable enough to stand calmly and take treats within 8 feet of other dogs and comfortable when approached by a friendly stranger. \n\nDogs must have one adult pet parent present\n$40 per 45-minute workshop\nYour dog must be up-to-date on age-appropriate vaccines
URL:https://pasadenahumane.org/phs-event/howliday-manners/2024-12-19/
ATTACH;FMTTYPE=image/jpeg:https://pasadenahumane.org/wp-content/uploads/2023/09/PasadenaHumane_HomeForTheHolidays_Grid1.jpg
END:VEVENT
END:VCALENDAR