BEGIN:VCALENDAR
VERSION:2.0
PRODID:-//Pasadena Humane - ECPv6.15.15//NONSGML v1.0//EN
CALSCALE:GREGORIAN
METHOD:PUBLISH
X-ORIGINAL-URL:https://pasadenahumane.org
X-WR-CALDESC:Events for Pasadena Humane
REFRESH-INTERVAL;VALUE=DURATION:PT1H
X-Robots-Tag:noindex
X-PUBLISHED-TTL:PT1H
BEGIN:VTIMEZONE
TZID:America/Los_Angeles
BEGIN:DAYLIGHT
TZOFFSETFROM:-0800
TZOFFSETTO:-0700
TZNAME:PDT
DTSTART:20230312T100000
END:DAYLIGHT
BEGIN:STANDARD
TZOFFSETFROM:-0700
TZOFFSETTO:-0800
TZNAME:PST
DTSTART:20231105T090000
END:STANDARD
BEGIN:DAYLIGHT
TZOFFSETFROM:-0800
TZOFFSETTO:-0700
TZNAME:PDT
DTSTART:20240310T100000
END:DAYLIGHT
BEGIN:STANDARD
TZOFFSETFROM:-0700
TZOFFSETTO:-0800
TZNAME:PST
DTSTART:20241103T090000
END:STANDARD
BEGIN:DAYLIGHT
TZOFFSETFROM:-0800
TZOFFSETTO:-0700
TZNAME:PDT
DTSTART:20250309T100000
END:DAYLIGHT
BEGIN:STANDARD
TZOFFSETFROM:-0700
TZOFFSETTO:-0800
TZNAME:PST
DTSTART:20251102T090000
END:STANDARD
END:VTIMEZONE
BEGIN:VEVENT
DTSTART;VALUE=DATE:20240828
DTEND;VALUE=DATE:20240902
DTSTAMP:20260421T053700
CREATED:20240828T161904Z
LAST-MODIFIED:20240828T161904Z
UID:10003127-1724803200-1725235199@pasadenahumane.org
SUMMARY:Back to School Special
DESCRIPTION:Grab your backpack and fill it with squeaky toys – it’s time for our Back to School Special! From August 28 through September 1\, adoption fees are waived for the 12 dogs that have been at the shelter the longest: Pepper\, Koa\, Rocky\, Leslie\, Sunset\, Bonnie\, Clyde\, Mia\, Nero\, Jabarkus\, Charles\, and Trina. They promise they’ll never eat your homework (without letting you know in advance) and they’ll always make time for the best subject of the day (recess). Adopt an A+ pup today!
URL:https://pasadenahumane.org/phs-event/back-to-school-special/
ATTACH;FMTTYPE=image/jpeg:https://pasadenahumane.org/wp-content/uploads/2024/08/Pepper_H-scaled.jpg
END:VEVENT
BEGIN:VEVENT
DTSTART;TZID=America/Los_Angeles:20240828T153000
DTEND;TZID=America/Los_Angeles:20240828T173000
DTSTAMP:20260421T053700
CREATED:20240621T023932Z
LAST-MODIFIED:20240621T183748Z
UID:10002545-1724859000-1724866200@pasadenahumane.org
SUMMARY:Junior Volunteers (Ages 12-14)
DESCRIPTION:$215 per four-week session \nEmbark on a compassionate journey with Jr. Volunteers at Pasadena Humane! Designed for ages 12-14\, this four-week program on Wednesdays from 3:30 p.m.-5:30 p.m. immerses young animal enthusiasts in the realms of animal husbandry and enrichment with service activities like making essential heating pads for neonatal kittens\, assembling care packages for different teams and creating pupsicles for shelter dogs. Jr. Volunteers will practice the values of responsibility\, empathy\, teamwork\, and service. Jr. Volunteers will receive service hours for each class they attend. \nWith a registration fee of $215\, extend a helping hand to paws in need and join us in fostering a community of caring hearts! \n*While we cannot guarantee an animal experience in every session\, we strive to introduce children to safe and suitable encounters with our furry companions when possible. \nScholarships are available. Please apply here. \nUpcoming Sessions: \nSign up for our next session beginning Wednesday\, August 28!
URL:https://pasadenahumane.org/phs-event/junior-volunteers-ages-12-14-2/2024-08-28/
CATEGORIES:Humane Education
ATTACH;FMTTYPE=image/jpeg:https://pasadenahumane.org/wp-content/uploads/2023/12/20230510-IMG_5578-scaled.jpg
END:VEVENT
BEGIN:VEVENT
DTSTART;TZID=America/Los_Angeles:20240828T173000
DTEND;TZID=America/Los_Angeles:20240828T181500
DTSTAMP:20260421T053700
CREATED:20240612T233534Z
LAST-MODIFIED:20240612T233534Z
UID:10002448-1724866200-1724868900@pasadenahumane.org
SUMMARY:Little Dogs with Big Feelings
DESCRIPTION:Does your small dog seem to struggle on daily walks? Wondering why they seem to be fearful of some things\, and aggressive towards others? You’re not alone! Join other pet guardians in this 5-week course. Our trainers will guide you and your small dog to become more confident and restore peace to your outdoor adventures. Using positive reinforcement and helpful management ideas\, we can help build essential training skills for you and your dog. Our classroom structure is designed to reduce visual contact and is limited to only 6 students. Appropriate for dogs under 30 lbs. We recommend that dogs with reactivity at distances of 20 ft. or more seek private help from a certified professional dog consultant prior to attending this class. \n\nLimit 6 dogs \nFor dogs under 30 lbs.\nDogs must have at least one adult pet parent present\nDogs must be up to date on vaccinations & flea medications\nDogs must be wearing a harness\, collar\, and on a 6-8 ft. leash\nPlease bring your dog’s favorite soft\, easy-to-chew treats\n$280 per 5-week session \nThis class is not appropriate for dogs with a bite history\nThis class is not suitable for dogs who are reactive to people.\n\nAvailable Sessions: \nWednesdays\, July 31-August 28\, 5:30-6:15 p.m. \n\n  \nLittle Dogs with Big Feelings – AUDIT (LDBF-A) is for pet guardians of reactive dogs who would like to learn from our certified trainers without taking their dog to class. Students who audit may take notes and observe other dog handler teams in our Little Dogs with Big Feelings course. You will have the same access to instructional homework assignments to work with your dog in the comfort of your home. “Ask-a-trainer” email access is also included. Perfect for those whose dog may be reactive to people\, are scent/sound sensitive\, or are too anxious to work in the classroom environment. \n\n$210 for 5 week course\nEach session is 45 minutes in length\nLimit 2 Audit students per class\nPlease no audio or video recording during class\nFor pet guardians only. Do not bring your pet to class\n\nAvailable Sessions: \nWednesdays\, July 31-August 28\, 5:30-6:15 p.m.
URL:https://pasadenahumane.org/phs-event/little-dogs-with-big-feelings-9/2024-08-28/
CATEGORIES:Training Classes
ATTACH;FMTTYPE=image/jpeg:https://pasadenahumane.org/wp-content/uploads/2022/08/reactiverover.jpeg
END:VEVENT
BEGIN:VEVENT
DTSTART;TZID=America/Los_Angeles:20240828T190000
DTEND;TZID=America/Los_Angeles:20240828T194500
DTSTAMP:20260421T053700
CREATED:20240612T233818Z
LAST-MODIFIED:20240612T233818Z
UID:10002453-1724871600-1724874300@pasadenahumane.org
SUMMARY:Large Dog Reactive Rovers
DESCRIPTION:Is your dog making a scene when they see other dogs on leash\, moving vehicles\, or wildlife? Has all the barking\, lunging\, and growling become just too much for you to handle? In this 5-week course\, our trainers will help you to build essential training and coping skills for your dog. Our classroom setup is designed to reduce visual contact and is limited to only 6 students. Appropriate for dogs 30 lbs. and over. We recommend that dogs with reactivity at distances of 20ft. or more seek private help from a certified professional dog consultant prior to attending this class. \n\nLimit 6 dogs \nFor dogs 30 lbs. and over\nDogs must have at least one adult pet parent present\nDogs must be up to date on vaccinations & flea medications\nDogs must be wearing a harness\, collar\, and on a 6-8 ft. leash\nPlease bring your dog’s favorite soft\, easy-to-chew treats\n$280 per 5-week session \nThis class is not appropriate for dogs with a bite history\nThis class is not suitable for dogs who are reactive to people.\n\nAvailable Sessions: \nWednesdays\, July 31-August 28\, 7-7:45 p.m. \n\n  \nLarge Dog Reactive Rovers – AUDIT (LDRR-A) is for pet guardians of reactive dogs who would like to learn from our certified trainers without taking their dog to class. Students who audit may take notes and observe other dog handler teams in our Large Dog Reactive Rovers course. You will have the same access to instructional homework assignments to work with your dog in the comfort of your home. “Ask-a-trainer” email access is also included. Perfect for those whose dog may be reactive to people\, are scent/sound sensitive\, or are too anxious to work in the classroom environment. \n\n$210 for 5 week course\nEach session is 45 minutes in length\nLimit 2 Audit students per class\nPlease no audio or video recording during class\nFor pet guardians only. Do not bring your pet to class\n\nAvailable Sessions: \nWednesdays\, July 31-August 28\, 7-7:45 p.m.
URL:https://pasadenahumane.org/phs-event/large-dog-reactive-rovers-12/2024-08-28/
CATEGORIES:Training Classes
ATTACH;FMTTYPE=image/jpeg:https://pasadenahumane.org/wp-content/uploads/2023/06/PasadenaHumane2023_Ivy_LF_794A3893.jpg
END:VEVENT
END:VCALENDAR