BEGIN:VCALENDAR
VERSION:2.0
PRODID:-//Pasadena Humane - ECPv6.15.15//NONSGML v1.0//EN
CALSCALE:GREGORIAN
METHOD:PUBLISH
X-ORIGINAL-URL:https://pasadenahumane.org
X-WR-CALDESC:Events for Pasadena Humane
REFRESH-INTERVAL;VALUE=DURATION:PT1H
X-Robots-Tag:noindex
X-PUBLISHED-TTL:PT1H
BEGIN:VTIMEZONE
TZID:America/Los_Angeles
BEGIN:DAYLIGHT
TZOFFSETFROM:-0800
TZOFFSETTO:-0700
TZNAME:PDT
DTSTART:20230312T100000
END:DAYLIGHT
BEGIN:STANDARD
TZOFFSETFROM:-0700
TZOFFSETTO:-0800
TZNAME:PST
DTSTART:20231105T090000
END:STANDARD
BEGIN:DAYLIGHT
TZOFFSETFROM:-0800
TZOFFSETTO:-0700
TZNAME:PDT
DTSTART:20240310T100000
END:DAYLIGHT
BEGIN:STANDARD
TZOFFSETFROM:-0700
TZOFFSETTO:-0800
TZNAME:PST
DTSTART:20241103T090000
END:STANDARD
BEGIN:DAYLIGHT
TZOFFSETFROM:-0800
TZOFFSETTO:-0700
TZNAME:PDT
DTSTART:20250309T100000
END:DAYLIGHT
BEGIN:STANDARD
TZOFFSETFROM:-0700
TZOFFSETTO:-0800
TZNAME:PST
DTSTART:20251102T090000
END:STANDARD
END:VTIMEZONE
BEGIN:VEVENT
DTSTART;TZID=America/Los_Angeles:20240817T100000
DTEND;TZID=America/Los_Angeles:20240817T140000
DTSTAMP:20260421T053929
CREATED:20240614T165345Z
LAST-MODIFIED:20240614T165345Z
UID:10002482-1723888800-1723903200@pasadenahumane.org
SUMMARY:Clear the Shelters
DESCRIPTION:Join us at Pasadena Humane on Saturday\, August 17 from 10 a.m. to 2 p.m. for Clear the Shelters! Adoption fees will be waived for all available dogs\, cats\, and critters. Adoptions include spay or neuter\, a microchip\, and age-appropriate vaccines. No appointment necessary. Regular adoption process applies. We will not be offering meet-and-greets between pets\, so please leave your family pets at home. \nResidents of Altadena\, Arcadia\, Bradbury\, Glendale\, La Cañada\, La Crescenta\, Pasadena\, Monrovia\, San Marino\, Sierra Madre and South Pasadena will need to purchase a license for dogs over 4 months at the time of adoption. Licensing fees vary by city. Bradbury also requires a pet license for cats.
URL:https://pasadenahumane.org/phs-event/clear-the-shelters-3/
END:VEVENT
BEGIN:VEVENT
DTSTART;TZID=America/Los_Angeles:20240817T123000
DTEND;TZID=America/Los_Angeles:20240817T133000
DTSTAMP:20260421T053929
CREATED:20240110T200031Z
LAST-MODIFIED:20240110T200031Z
UID:10001994-1723897800-1723901400@pasadenahumane.org
SUMMARY:Guided Tour
DESCRIPTION:Pasadena Humane is more than a shelter; we are a resource for all animals in the community. Join us for a guided tour to learn more about how we help animals in need. During this hour-long tour\, you’ll hear about our history\, programs\, and services while viewing adorable dogs\, cats and critters looking for new homes. The tour will start at the Animal Resource Center. We’ll then travel through the Neely Cat Center and dog kennels learning more about the animals in our care. The tour will end at the Shelter Shop. \nTours are appropriate for all ages and limited to 15 guests.
URL:https://pasadenahumane.org/phs-event/guided-tour/2024-08-17/
END:VEVENT
END:VCALENDAR