BEGIN:VCALENDAR
VERSION:2.0
PRODID:-//Pasadena Humane - ECPv6.15.15//NONSGML v1.0//EN
CALSCALE:GREGORIAN
METHOD:PUBLISH
X-ORIGINAL-URL:https://pasadenahumane.org
X-WR-CALDESC:Events for Pasadena Humane
REFRESH-INTERVAL;VALUE=DURATION:PT1H
X-Robots-Tag:noindex
X-PUBLISHED-TTL:PT1H
BEGIN:VTIMEZONE
TZID:America/Los_Angeles
BEGIN:DAYLIGHT
TZOFFSETFROM:-0800
TZOFFSETTO:-0700
TZNAME:PDT
DTSTART:20230312T100000
END:DAYLIGHT
BEGIN:STANDARD
TZOFFSETFROM:-0700
TZOFFSETTO:-0800
TZNAME:PST
DTSTART:20231105T090000
END:STANDARD
BEGIN:DAYLIGHT
TZOFFSETFROM:-0800
TZOFFSETTO:-0700
TZNAME:PDT
DTSTART:20240310T100000
END:DAYLIGHT
BEGIN:STANDARD
TZOFFSETFROM:-0700
TZOFFSETTO:-0800
TZNAME:PST
DTSTART:20241103T090000
END:STANDARD
BEGIN:DAYLIGHT
TZOFFSETFROM:-0800
TZOFFSETTO:-0700
TZNAME:PDT
DTSTART:20250309T100000
END:DAYLIGHT
BEGIN:STANDARD
TZOFFSETFROM:-0700
TZOFFSETTO:-0800
TZNAME:PST
DTSTART:20251102T090000
END:STANDARD
END:VTIMEZONE
BEGIN:VEVENT
DTSTART;TZID=America/Los_Angeles:20240525T100000
DTEND;TZID=America/Los_Angeles:20240525T140000
DTSTAMP:20260421T084213
CREATED:20240416T191253Z
LAST-MODIFIED:20240508T001638Z
UID:10002160-1716631200-1716645600@pasadenahumane.org
SUMMARY:Free Adoption Day
DESCRIPTION:Join us at Pasadena Humane on Saturday\, May 25 from 10 a.m. to 2 p.m. for Free Adoption Day sponsored by the Carol\, Edward\, Ariana and Joseph Wong Family Foundation! Adoption fees will be waived for all available dogs\, cats\, and critters. Adoptions include spay or neuter\, a microchip\, and age-appropriate vaccines. No appointment necessary. Regular adoption process applies. We will not be offering meet-and-greets between pets\, so please leave your family pets at home. \nResidents of Altadena\, Arcadia\, Bradbury\, Glendale\, La Cañada\, La Crescenta\, Pasadena\, Monrovia\, San Marino\, Sierra Madre and South Pasadena will need to purchase a license for dogs over 4 months at the time of adoption. Licensing fees vary by city. Bradbury also requires a pet license for cats. \nCan’t wait to adopt? From May 20 through May 24\, the adoption fee for large dogs (40 lbs. and up) is 50% off!
URL:https://pasadenahumane.org/phs-event/free-adoption-day-8/
LOCATION:Pasadena Humane @ 361 S. Raymond Ave.\, Pasadena\, CA 91105
ATTACH;FMTTYPE=image/png:https://pasadenahumane.org/wp-content/uploads/2024/05/24_04_Free-Adoption-Day_May-25_Graphics_Nextdoor-FB-Event-Header-1920x1080-1.png
END:VEVENT
BEGIN:VEVENT
DTSTART;TZID=America/Los_Angeles:20240525T140000
DTEND;TZID=America/Los_Angeles:20240525T170000
DTSTAMP:20260421T084213
CREATED:20221228T204945Z
LAST-MODIFIED:20250218T204805Z
UID:10001296-1716645600-1716656400@pasadenahumane.org
SUMMARY:Visiting Hours
DESCRIPTION:Pasadena Humane opens its doors for “Visiting Hours” on Saturdays and Sundays from 2:00 to 5:00 p.m. (unless otherwise noted). \nVisitors are welcome to walk through the dog kennels\, Neely Cat Center and Critter House to see the animals available for adoption. No appointment necessary.
URL:https://pasadenahumane.org/phs-event/visiting-hours-7/2024-05-25/
ATTACH;FMTTYPE=image/jpeg:https://pasadenahumane.org/wp-content/uploads/2022/11/neely_kittens-scaled.jpg
END:VEVENT
BEGIN:VEVENT
DTSTART;TZID=America/Los_Angeles:20240525T150000
DTEND;TZID=America/Los_Angeles:20240525T154500
DTSTAMP:20260421T084213
CREATED:20240228T225317Z
LAST-MODIFIED:20240228T225317Z
UID:10000830-1716649200-1716651900@pasadenahumane.org
SUMMARY:Puppy Manners
DESCRIPTION:Calling all puppies 16 weeks and under. Grab your guardian and join us for Puppy Manners! During this 5-week course\, our certified trainers will continue to guide you through puppyhood and help you avoid common mistakes such as chewing dad’s favorite slippers\, pulling on leash\, jumping up\, and more. They will teach your human to use positive reinforcement techniques (treats & praise!) to help you learn valuable life skills and you’re going to have such fun learning with us!‌ \n\nPuppies must be 16 weeks or younger at first class meeting\nLimit 10 pups per class\nMust have one adult pet parent present\nPuppies must be wearing a collar or harness and leash\nPlease bring at least 2 cups of very small\, soft treats\n$250 per 5-week session\nYour puppy must be free from signs of illness (coughing\, nasal discharge\, vomiting\, diarrhea) to attend classes.\nIf your puppy is exhibiting signs of illness including coughing\, you will be asked to exit the class\nYour puppy must be current on vaccines appropriate for their age including Bordetella\, Canine Distemper and Parainfluenza (DAPP)\nWe highly recommend your puppy receive the Canine Influenza Vaccine. Please check with your personal veterinarian for guidance.
URL:https://pasadenahumane.org/phs-event/puppy-manners-7/2024-05-25/
CATEGORIES:Training Classes
ATTACH;FMTTYPE=image/jpeg:https://pasadenahumane.org/wp-content/uploads/2020/07/Banner-photo-for-fundraising-events-page-small-760x425_0002_puppy.jpg
END:VEVENT
END:VCALENDAR