BEGIN:VCALENDAR
VERSION:2.0
PRODID:-//Pasadena Humane - ECPv6.15.15//NONSGML v1.0//EN
CALSCALE:GREGORIAN
METHOD:PUBLISH
X-ORIGINAL-URL:https://pasadenahumane.org
X-WR-CALDESC:Events for Pasadena Humane
REFRESH-INTERVAL;VALUE=DURATION:PT1H
X-Robots-Tag:noindex
X-PUBLISHED-TTL:PT1H
BEGIN:VTIMEZONE
TZID:America/Los_Angeles
BEGIN:DAYLIGHT
TZOFFSETFROM:-0800
TZOFFSETTO:-0700
TZNAME:PDT
DTSTART:20230312T100000
END:DAYLIGHT
BEGIN:STANDARD
TZOFFSETFROM:-0700
TZOFFSETTO:-0800
TZNAME:PST
DTSTART:20231105T090000
END:STANDARD
BEGIN:DAYLIGHT
TZOFFSETFROM:-0800
TZOFFSETTO:-0700
TZNAME:PDT
DTSTART:20240310T100000
END:DAYLIGHT
BEGIN:STANDARD
TZOFFSETFROM:-0700
TZOFFSETTO:-0800
TZNAME:PST
DTSTART:20241103T090000
END:STANDARD
BEGIN:DAYLIGHT
TZOFFSETFROM:-0800
TZOFFSETTO:-0700
TZNAME:PDT
DTSTART:20250309T100000
END:DAYLIGHT
BEGIN:STANDARD
TZOFFSETFROM:-0700
TZOFFSETTO:-0800
TZNAME:PST
DTSTART:20251102T090000
END:STANDARD
END:VTIMEZONE
BEGIN:VEVENT
DTSTART;TZID=America/Los_Angeles:20240522T100000
DTEND;TZID=America/Los_Angeles:20240522T130000
DTSTAMP:20260421T131133
CREATED:20240410T215816Z
LAST-MODIFIED:20240410T215816Z
UID:10002155-1716372000-1716382800@pasadenahumane.org
SUMMARY:Tablin' at Pasadena Celebrates Older Americans Month\, Victory Park (No animals)
DESCRIPTION:Victory Park\, 2575 Paloma St.\, Pasadena \nThe Pasadena Humane outreach team regularly attend fairs\, festivals and conventions to bring information about our programs and services out to the community.
URL:https://pasadenahumane.org/phs-event/tablin-at-pasadena-celebrates-older-americans-month-victory-park-no-animals/
CATEGORIES:Tabling
END:VEVENT
BEGIN:VEVENT
DTSTART;TZID=America/Los_Angeles:20240522T153000
DTEND;TZID=America/Los_Angeles:20240522T173000
DTSTAMP:20260421T131133
CREATED:20240410T204504Z
LAST-MODIFIED:20240410T204504Z
UID:10002145-1716391800-1716399000@pasadenahumane.org
SUMMARY:Jr. Volunteers (Ages 12-14)
DESCRIPTION:$215 per four-week session \nEmbark on a compassionate journey with Jr. Volunteers at Pasadena Humane! Designed for ages 12-14\, this four-week program on Wednesdays from 3:30 p.m.-5:30 p.m. immerses young animal enthusiasts in the realms of animal husbandry and enrichment with service activities like making essential heating pads for neonatal kittens\, assembling care packages for different teams and creating pupsicles for shelter dogs. Jr. Volunteers will practice the values of responsibility\, empathy\, teamwork\, and service. Jr. Volunteers will receive service hours for each class they attend. \nWith a registration fee of $215\, extend a helping hand to paws in need and join us in fostering a community of caring hearts! \n*While we cannot guarantee an animal experience in every session\, we strive to introduce children to safe and suitable encounters with our furry companions when possible. \nScholarships are available. Please apply here.
URL:https://pasadenahumane.org/phs-event/jr-volunteers-ages-12-14-4/2024-05-22/
CATEGORIES:Humane Education,PHS
ATTACH;FMTTYPE=image/jpeg:https://pasadenahumane.org/wp-content/uploads/2023/12/20230510-IMG_5578-scaled.jpg
END:VEVENT
BEGIN:VEVENT
DTSTART;TZID=America/Los_Angeles:20240522T173000
DTEND;TZID=America/Los_Angeles:20240522T181500
DTSTAMP:20260421T131133
CREATED:20230210T204729Z
LAST-MODIFIED:20260416T182317Z
UID:10001541-1716399000-1716401700@pasadenahumane.org
SUMMARY:Rockstar Recalls
DESCRIPTION:Buddy\, come! Come! Buddy! Buddy?… Oh\, Buddy.  \nCan’t recall the last time your dog came running back the first time you asked? In this 45-minute workshop\, we’ll show you how to build a recall so solid your dog might even ignore that squirrel! The best part? It’s all about positive reinforcement\, and we’re going to have so much fun learning. This workshop is repeatable\, and our trainers will help you work to advance your dog’s skill level from beginner to rockstar! To participate in this workshop your dog must be comfortable enough to stand calmly and take treats within 10 feet of other dogs.  \n\nDogs must have one adult pet parent present \n$40 per 45-minute workshop \nYour dog must be up-to-date on age-appropriate vaccines
URL:https://pasadenahumane.org/phs-event/rockstar-recalls/2024-05-22/
CATEGORIES:Training Classes
ATTACH;FMTTYPE=image/jpeg:https://pasadenahumane.org/wp-content/uploads/2023/02/rockstarrecalls.jpg
END:VEVENT
BEGIN:VEVENT
DTSTART;TZID=America/Los_Angeles:20240522T190000
DTEND;TZID=America/Los_Angeles:20240522T194500
DTSTAMP:20260421T131133
CREATED:20240405T003254Z
LAST-MODIFIED:20240405T003254Z
UID:10002129-1716404400-1716407100@pasadenahumane.org
SUMMARY:Basics 101
DESCRIPTION:Don’t say “basic” like it’s a bad thing! Your dog could be basically awesome after taking Basics 101 at Pasadena Humane! This 5-week class covers level 1 core skills for adult dogs. Our certified trainers will teach you how to motivate and communicate with your dog in a fun\, positive way. You’ll learn requests like lie down\, follow me\, go to place\, and the foundations of important life skills like loose leashing walking. Dogs in Basics 101 should be comfortable enough to stand calmly and take treats within 10 feet of other dogs.   \n\nLimit 9 dogs  \nDogs must have one adult pet parent present \nDogs must be up to date on vaccinations \nDogs must be wearing a collar or harness and leash \nPlease bring least two cups of your pup’s favorite treats  \n$250 per 5-week session \nYour dog must be free from signs of illness (coughing\, nasal discharge\, vomiting\, diarrhea)\nYour dog must not have visited a boarding facility\, dog park or doggie daycare in the past 14 days preceding class start date\nYour dog must be up to date on vaccines for Canine Influenza\, Bordetella\, Canine Distemper and Parainfluenza
URL:https://pasadenahumane.org/phs-event/basics-101-12/2024-05-22/
CATEGORIES:Training Classes
ATTACH;FMTTYPE=image/jpeg:https://pasadenahumane.org/wp-content/uploads/2024/02/Magnolia_PasadenaHumane2023_LF_794A5737-2-scaled.jpg
END:VEVENT
END:VCALENDAR