BEGIN:VCALENDAR
VERSION:2.0
PRODID:-//Pasadena Humane - ECPv6.15.15//NONSGML v1.0//EN
CALSCALE:GREGORIAN
METHOD:PUBLISH
X-ORIGINAL-URL:https://pasadenahumane.org
X-WR-CALDESC:Events for Pasadena Humane
REFRESH-INTERVAL;VALUE=DURATION:PT1H
X-Robots-Tag:noindex
X-PUBLISHED-TTL:PT1H
BEGIN:VTIMEZONE
TZID:America/Los_Angeles
BEGIN:DAYLIGHT
TZOFFSETFROM:-0800
TZOFFSETTO:-0700
TZNAME:PDT
DTSTART:20230312T100000
END:DAYLIGHT
BEGIN:STANDARD
TZOFFSETFROM:-0700
TZOFFSETTO:-0800
TZNAME:PST
DTSTART:20231105T090000
END:STANDARD
BEGIN:DAYLIGHT
TZOFFSETFROM:-0800
TZOFFSETTO:-0700
TZNAME:PDT
DTSTART:20240310T100000
END:DAYLIGHT
BEGIN:STANDARD
TZOFFSETFROM:-0700
TZOFFSETTO:-0800
TZNAME:PST
DTSTART:20241103T090000
END:STANDARD
BEGIN:DAYLIGHT
TZOFFSETFROM:-0800
TZOFFSETTO:-0700
TZNAME:PDT
DTSTART:20250309T100000
END:DAYLIGHT
BEGIN:STANDARD
TZOFFSETFROM:-0700
TZOFFSETTO:-0800
TZNAME:PST
DTSTART:20251102T090000
END:STANDARD
END:VTIMEZONE
BEGIN:VEVENT
DTSTART;TZID=America/Los_Angeles:20240507T113000
DTEND;TZID=America/Los_Angeles:20240507T121500
DTSTAMP:20260422T132335
CREATED:20240228T190044Z
LAST-MODIFIED:20240228T190044Z
UID:10002105-1715081400-1715084100@pasadenahumane.org
SUMMARY:Brave Buddies: Confidence Building for Small Dogs
DESCRIPTION:Got a cowering canine who could benefit from a confidence boost? If your nervous Nellie is overwhelmed by large\, noisy training classes\, Brave Buddies may just be a better fit. We will work at a considerate & calm pace serving only small dogs 20 lbs. and under. Your fearful friend will blossom into a brave little buddy with our fear-free training methods. Pasadena Humane’s certified trainers will introduce you to practical confidence boosting activities that you can practice in class and at home. Not sure if this course is right for your dog? Contact the training team for advice: animaltraining@pasadenahumane.org \n\nSuitable for dogs 6 months and up\nFor small breed dogs 20lbs and under\n3 week course is $120\nNot suitable for reactive dogs\nYour dog must be free from signs of illness (coughing\, nasal discharge\, vomiting\, diarrhea)\nYour dog must not have visited a boarding facility\, dog park or doggie daycare in the past 14 days preceding class start date\nYour dog must be up to date on vaccines for Canine Influenza\, Bordetella\, Canine Distemper and Parainfluenza
URL:https://pasadenahumane.org/phs-event/brave-buddies-confidence-building-for-small-dogs/2024-05-07/
CATEGORIES:Training Classes
ATTACH;FMTTYPE=image/jpeg:https://pasadenahumane.org/wp-content/uploads/2023/06/PasadenaHumane2023_Penny_LF_794A4915.jpg
END:VEVENT
BEGIN:VEVENT
DTSTART;TZID=America/Los_Angeles:20240507T153000
DTEND;TZID=America/Los_Angeles:20240507T173000
DTSTAMP:20260422T132335
CREATED:20240410T204209Z
LAST-MODIFIED:20240410T204234Z
UID:10002139-1715095800-1715103000@pasadenahumane.org
SUMMARY:Kids For Animals Club (Ages 7-11)
DESCRIPTION:$200 per four-week session \nEmbark on a journey with the Kids for Animals Club—an enriching after-school program for children aged 7 to 11. Priced at just $200 for each four-week session\, this program is a gateway to a world where young minds can deepen their understanding of local and global animals. Topics may include veterinary health\, wildlife appreciation\, and the discovery of fulfilling careers in animal welfare. Kids will also actively participate in hands-on service projects\, directly benefiting our cherished animal friends. Invest in your child’s curiosity and compassion with the Kids for Animals Club—where education meets adventure! \nJoin us every Tuesday from 3:30 p.m. to 5:30 p.m.\, providing your child with the chance to unleash their creativity while positively impacting the world of animals. \n*While we cannot guarantee an animal experience in every session\, we strive to introduce children to safe and suitable encounters with our furry companions when possible. \nScholarships are available. Please apply here.
URL:https://pasadenahumane.org/phs-event/kids-for-animals-club-11/2024-05-07/
CATEGORIES:Humane Education
ATTACH;FMTTYPE=image/jpeg:https://pasadenahumane.org/wp-content/uploads/2023/07/kfaclub_kids_small.jpg
END:VEVENT
BEGIN:VEVENT
DTSTART;TZID=America/Los_Angeles:20240507T190000
DTEND;TZID=America/Los_Angeles:20240507T194500
DTSTAMP:20260422T132335
CREATED:20230210T204729Z
LAST-MODIFIED:20260416T182317Z
UID:10001539-1715108400-1715111100@pasadenahumane.org
SUMMARY:Rockstar Recalls
DESCRIPTION:Buddy\, come! Come! Buddy! Buddy?… Oh\, Buddy.  \nCan’t recall the last time your dog came running back the first time you asked? In this 45-minute workshop\, we’ll show you how to build a recall so solid your dog might even ignore that squirrel! The best part? It’s all about positive reinforcement\, and we’re going to have so much fun learning. This workshop is repeatable\, and our trainers will help you work to advance your dog’s skill level from beginner to rockstar! To participate in this workshop your dog must be comfortable enough to stand calmly and take treats within 10 feet of other dogs.  \n\nDogs must have one adult pet parent present \n$40 per 45-minute workshop \nYour dog must be up-to-date on age-appropriate vaccines
URL:https://pasadenahumane.org/phs-event/rockstar-recalls/2024-05-07/
CATEGORIES:Training Classes
ATTACH;FMTTYPE=image/jpeg:https://pasadenahumane.org/wp-content/uploads/2023/02/rockstarrecalls.jpg
END:VEVENT
END:VCALENDAR