BEGIN:VCALENDAR
VERSION:2.0
PRODID:-//Pasadena Humane - ECPv6.15.15//NONSGML v1.0//EN
CALSCALE:GREGORIAN
METHOD:PUBLISH
X-ORIGINAL-URL:https://pasadenahumane.org
X-WR-CALDESC:Events for Pasadena Humane
REFRESH-INTERVAL;VALUE=DURATION:PT1H
X-Robots-Tag:noindex
X-PUBLISHED-TTL:PT1H
BEGIN:VTIMEZONE
TZID:America/Los_Angeles
BEGIN:DAYLIGHT
TZOFFSETFROM:-0800
TZOFFSETTO:-0700
TZNAME:PDT
DTSTART:20230312T100000
END:DAYLIGHT
BEGIN:STANDARD
TZOFFSETFROM:-0700
TZOFFSETTO:-0800
TZNAME:PST
DTSTART:20231105T090000
END:STANDARD
BEGIN:DAYLIGHT
TZOFFSETFROM:-0800
TZOFFSETTO:-0700
TZNAME:PDT
DTSTART:20240310T100000
END:DAYLIGHT
BEGIN:STANDARD
TZOFFSETFROM:-0700
TZOFFSETTO:-0800
TZNAME:PST
DTSTART:20241103T090000
END:STANDARD
BEGIN:DAYLIGHT
TZOFFSETFROM:-0800
TZOFFSETTO:-0700
TZNAME:PDT
DTSTART:20250309T100000
END:DAYLIGHT
BEGIN:STANDARD
TZOFFSETFROM:-0700
TZOFFSETTO:-0800
TZNAME:PST
DTSTART:20251102T090000
END:STANDARD
END:VTIMEZONE
BEGIN:VEVENT
DTSTART;TZID=America/Los_Angeles:20240501T174500
DTEND;TZID=America/Los_Angeles:20240501T183000
DTSTAMP:20260422T224521
CREATED:20240228T222057Z
LAST-MODIFIED:20240228T222057Z
UID:10002112-1714585500-1714588200@pasadenahumane.org
SUMMARY:Basics 101
DESCRIPTION:Don’t say “basic” like it’s a bad thing! Your dog could be basically awesome after taking Basics 101 at Pasadena Humane! This 5-week class covers level 1 core skills for adult dogs. Our certified trainers will teach you how to motivate and communicate with your dog in a fun\, positive way. You’ll learn requests like lie down\, follow me\, go to place\, and the foundations of important life skills like loose leashing walking. Dogs in Basics 101 should be comfortable enough to stand calmly and take treats within 10 feet of other dogs.   \n\nLimit 9 dogs  \nDogs must have one adult pet parent present \nDogs must be up to date on vaccinations \nDogs must be wearing a collar or harness and leash \nPlease bring least two cups of your pup’s favorite treats  \n$250 per 5-week session \nYour dog must be free from signs of illness (coughing\, nasal discharge\, vomiting\, diarrhea)\nYour dog must not have visited a boarding facility\, dog park or doggie daycare in the past 14 days preceding class start date\nYour dog must be up to date on vaccines for Canine Influenza\, Bordetella\, Canine Distemper and Parainfluenza
URL:https://pasadenahumane.org/phs-event/basics-101-11/2024-05-01/
CATEGORIES:Training Classes
ATTACH;FMTTYPE=image/jpeg:https://pasadenahumane.org/wp-content/uploads/2023/06/PasadenaHumane2023_Ru_LF_794A4519.jpg
END:VEVENT
END:VCALENDAR